BEGIN:VCALENDAR
VERSION:2.0
PRODID:-//Louise Benson School of Dance - ECPv6.15.16.1//NONSGML v1.0//EN
CALSCALE:GREGORIAN
METHOD:PUBLISH
X-ORIGINAL-URL:https://louisebensondance.co.uk
X-WR-CALDESC:Events for Louise Benson School of Dance
REFRESH-INTERVAL;VALUE=DURATION:PT1H
X-Robots-Tag:noindex
X-PUBLISHED-TTL:PT1H
BEGIN:VTIMEZONE
TZID:Europe/London
BEGIN:DAYLIGHT
TZOFFSETFROM:+0000
TZOFFSETTO:+0100
TZNAME:BST
DTSTART:20240331T010000
END:DAYLIGHT
BEGIN:STANDARD
TZOFFSETFROM:+0100
TZOFFSETTO:+0000
TZNAME:GMT
DTSTART:20241027T010000
END:STANDARD
BEGIN:DAYLIGHT
TZOFFSETFROM:+0000
TZOFFSETTO:+0100
TZNAME:BST
DTSTART:20250330T010000
END:DAYLIGHT
BEGIN:STANDARD
TZOFFSETFROM:+0100
TZOFFSETTO:+0000
TZNAME:GMT
DTSTART:20251026T010000
END:STANDARD
BEGIN:DAYLIGHT
TZOFFSETFROM:+0000
TZOFFSETTO:+0100
TZNAME:BST
DTSTART:20260329T010000
END:DAYLIGHT
BEGIN:STANDARD
TZOFFSETFROM:+0100
TZOFFSETTO:+0000
TZNAME:GMT
DTSTART:20261025T010000
END:STANDARD
BEGIN:DAYLIGHT
TZOFFSETFROM:+0000
TZOFFSETTO:+0100
TZNAME:BST
DTSTART:20270328T010000
END:DAYLIGHT
BEGIN:STANDARD
TZOFFSETFROM:+0100
TZOFFSETTO:+0000
TZNAME:GMT
DTSTART:20271031T010000
END:STANDARD
END:VTIMEZONE
BEGIN:VEVENT
DTSTART;TZID=Europe/London:20250107T161500
DTEND;TZID=Europe/London:20250107T193000
DTSTAMP:20260425T163909
CREATED:20250106T195907Z
LAST-MODIFIED:20250106T195907Z
UID:1967-1736266500-1736278200@louisebensondance.co.uk
SUMMARY:New Term Starts at Emmanuel Church
DESCRIPTION:
URL:https://louisebensondance.co.uk/event/new-term-starts-at-emmanuel-church/
LOCATION:Emmanuel Church\, The Grove\, West Wickham\, BR4 9JS
END:VEVENT
BEGIN:VEVENT
DTSTART;TZID=Europe/London:20250108T160000
DTEND;TZID=Europe/London:20250108T190000
DTSTAMP:20260425T163909
CREATED:20250106T200126Z
LAST-MODIFIED:20250106T200126Z
UID:1971-1736352000-1736362800@louisebensondance.co.uk
SUMMARY:New Term Starts at Medhurst Hall
DESCRIPTION:
URL:https://louisebensondance.co.uk/event/new-term-starts-at-medhurst-hall/
LOCATION:Medhurst Hall\, Sussex Road\, BR4 0JX\, United Kingdom
END:VEVENT
BEGIN:VEVENT
DTSTART;TZID=Europe/London:20250109T160000
DTEND;TZID=Europe/London:20250109T200000
DTSTAMP:20260425T163909
CREATED:20250106T200028Z
LAST-MODIFIED:20250106T200028Z
UID:1969-1736438400-1736452800@louisebensondance.co.uk
SUMMARY:Term Starts at New Church
DESCRIPTION:
URL:https://louisebensondance.co.uk/event/term-starts-at-new-church/
LOCATION:West Wickham New Church\, 142 High Street\, West Wickham\, BR4 0LZ\, United Kingdom
END:VEVENT
BEGIN:VEVENT
DTSTART;TZID=Europe/London:20250113T160000
DTEND;TZID=Europe/London:20250113T203000
DTSTAMP:20260425T163909
CREATED:20250106T200213Z
LAST-MODIFIED:20250106T200213Z
UID:1973-1736784000-1736800200@louisebensondance.co.uk
SUMMARY:New Term Starts at Wickham Halls
DESCRIPTION:
URL:https://louisebensondance.co.uk/event/new-term-starts-at-wickham-halls/
LOCATION:Wickham Hall\, Sussex Road\, West Wickham\, BR4 0JX
END:VEVENT
BEGIN:VEVENT
DTSTART;TZID=Europe/London:20250114T160000
DTEND;TZID=Europe/London:20250114T203000
DTSTAMP:20260425T163909
CREATED:20250106T200313Z
LAST-MODIFIED:20250106T200313Z
UID:1975-1736870400-1736886600@louisebensondance.co.uk
SUMMARY:New Term Starts at Wickham Halls and Sussex Rooms
DESCRIPTION:
URL:https://louisebensondance.co.uk/event/new-term-starts-at-wickham-halls-and-sussex-rooms/
LOCATION:Wickham Hall\, Sussex Road\, West Wickham\, BR4 0JX
END:VEVENT
BEGIN:VEVENT
DTSTART;TZID=Europe/London:20250115T160000
DTEND;TZID=Europe/London:20250115T213000
DTSTAMP:20260425T163909
CREATED:20250106T200400Z
LAST-MODIFIED:20250106T200400Z
UID:1977-1736956800-1736976600@louisebensondance.co.uk
SUMMARY:New Term Starts at Wickham Halls
DESCRIPTION:
URL:https://louisebensondance.co.uk/event/new-term-starts-at-wickham-halls-2/
LOCATION:Wickham Hall\, Sussex Road\, West Wickham\, BR4 0JX
END:VEVENT
BEGIN:VEVENT
DTSTART;VALUE=DATE:20251211
DTEND;VALUE=DATE:20251212
DTSTAMP:20260425T163909
CREATED:20251208T112429Z
LAST-MODIFIED:20251208T112429Z
UID:2131-1765411200-1765497599@louisebensondance.co.uk
SUMMARY:End of Autumn Term
DESCRIPTION:
URL:https://louisebensondance.co.uk/event/end-of-autumn-term-2/
END:VEVENT
BEGIN:VEVENT
DTSTART;VALUE=DATE:20260112
DTEND;VALUE=DATE:20260113
DTSTAMP:20260425T163909
CREATED:20251208T112400Z
LAST-MODIFIED:20251208T112400Z
UID:2129-1768176000-1768262399@louisebensondance.co.uk
SUMMARY:New Term Starts
DESCRIPTION:
URL:https://louisebensondance.co.uk/event/new-term-starts-5/
END:VEVENT
BEGIN:VEVENT
DTSTART;VALUE=DATE:20260216
DTEND;VALUE=DATE:20260221
DTSTAMP:20260425T163909
CREATED:20251208T112529Z
LAST-MODIFIED:20251208T112529Z
UID:2133-1771200000-1771631999@louisebensondance.co.uk
SUMMARY:Half term
DESCRIPTION:
URL:https://louisebensondance.co.uk/event/half-term-9/
END:VEVENT
BEGIN:VEVENT
DTSTART;VALUE=DATE:20260402
DTEND;VALUE=DATE:20260403
DTSTAMP:20260425T163909
CREATED:20251208T112614Z
LAST-MODIFIED:20251208T112614Z
UID:2135-1775088000-1775174399@louisebensondance.co.uk
SUMMARY:End of Term
DESCRIPTION:
URL:https://louisebensondance.co.uk/event/end-of-term-6/
END:VEVENT
BEGIN:VEVENT
DTSTART;VALUE=DATE:20260420
DTEND;VALUE=DATE:20260421
DTSTAMP:20260425T163909
CREATED:20251208T112646Z
LAST-MODIFIED:20251208T112646Z
UID:2138-1776643200-1776729599@louisebensondance.co.uk
SUMMARY:Start of Summer Term
DESCRIPTION:
URL:https://louisebensondance.co.uk/event/start-of-summer-term/
END:VEVENT
BEGIN:VEVENT
DTSTART;TZID=Europe/London:20260515T160000
DTEND;TZID=Europe/London:20260515T210000
DTSTAMP:20260425T163909
CREATED:20251208T112733Z
LAST-MODIFIED:20251208T112733Z
UID:2140-1778860800-1778878800@louisebensondance.co.uk
SUMMARY:Summer Show Tech
DESCRIPTION:
URL:https://louisebensondance.co.uk/event/summer-show-tech/
END:VEVENT
BEGIN:VEVENT
DTSTART;VALUE=DATE:20260517
DTEND;VALUE=DATE:20260518
DTSTAMP:20260425T163909
CREATED:20251208T112810Z
LAST-MODIFIED:20251208T112810Z
UID:2142-1778976000-1779062399@louisebensondance.co.uk
SUMMARY:BIG SUMMER SHOW!
DESCRIPTION:
URL:https://louisebensondance.co.uk/event/big-summer-show/
END:VEVENT
BEGIN:VEVENT
DTSTART;VALUE=DATE:20260518
DTEND;VALUE=DATE:20260523
DTSTAMP:20260425T163909
CREATED:20251208T112851Z
LAST-MODIFIED:20251208T112851Z
UID:2145-1779062400-1779494399@louisebensondance.co.uk
SUMMARY:School closed
DESCRIPTION:
URL:https://louisebensondance.co.uk/event/school-closed/
END:VEVENT
BEGIN:VEVENT
DTSTART;VALUE=DATE:20260525
DTEND;VALUE=DATE:20260530
DTSTAMP:20260425T163909
CREATED:20251208T112925Z
LAST-MODIFIED:20251208T112925Z
UID:2148-1779667200-1780099199@louisebensondance.co.uk
SUMMARY:Half Term
DESCRIPTION:
URL:https://louisebensondance.co.uk/event/half-term-10/
END:VEVENT
BEGIN:VEVENT
DTSTART;VALUE=DATE:20260716
DTEND;VALUE=DATE:20260717
DTSTAMP:20260425T163909
CREATED:20251208T113032Z
LAST-MODIFIED:20251208T113032Z
UID:2150-1784160000-1784246399@louisebensondance.co.uk
SUMMARY:End of Summer Term
DESCRIPTION:
URL:https://louisebensondance.co.uk/event/end-of-summer-term-3/
END:VEVENT
END:VCALENDAR