BEGIN:VCALENDAR
VERSION:2.0
PRODID:-//Louise Benson School of Dance - ECPv6.15.16.1//NONSGML v1.0//EN
CALSCALE:GREGORIAN
METHOD:PUBLISH
X-WR-CALNAME:Louise Benson School of Dance
X-ORIGINAL-URL:https://louisebensondance.co.uk
X-WR-CALDESC:Events for Louise Benson School of Dance
REFRESH-INTERVAL;VALUE=DURATION:PT1H
X-Robots-Tag:noindex
X-PUBLISHED-TTL:PT1H
BEGIN:VTIMEZONE
TZID:Europe/London
BEGIN:DAYLIGHT
TZOFFSETFROM:+0000
TZOFFSETTO:+0100
TZNAME:BST
DTSTART:20170326T010000
END:DAYLIGHT
BEGIN:STANDARD
TZOFFSETFROM:+0100
TZOFFSETTO:+0000
TZNAME:GMT
DTSTART:20171029T010000
END:STANDARD
BEGIN:DAYLIGHT
TZOFFSETFROM:+0000
TZOFFSETTO:+0100
TZNAME:BST
DTSTART:20180325T010000
END:DAYLIGHT
BEGIN:STANDARD
TZOFFSETFROM:+0100
TZOFFSETTO:+0000
TZNAME:GMT
DTSTART:20181028T010000
END:STANDARD
BEGIN:DAYLIGHT
TZOFFSETFROM:+0000
TZOFFSETTO:+0100
TZNAME:BST
DTSTART:20190331T010000
END:DAYLIGHT
BEGIN:STANDARD
TZOFFSETFROM:+0100
TZOFFSETTO:+0000
TZNAME:GMT
DTSTART:20191027T010000
END:STANDARD
BEGIN:DAYLIGHT
TZOFFSETFROM:+0000
TZOFFSETTO:+0100
TZNAME:BST
DTSTART:20200329T010000
END:DAYLIGHT
BEGIN:STANDARD
TZOFFSETFROM:+0100
TZOFFSETTO:+0000
TZNAME:GMT
DTSTART:20201025T010000
END:STANDARD
END:VTIMEZONE
BEGIN:VEVENT
DTSTART;TZID=Europe/London:20191201T123000
DTEND;TZID=Europe/London:20191201T143000
DTSTAMP:20260425T163525
CREATED:20191014T185804Z
LAST-MODIFIED:20191014T190058Z
UID:1045-1575203400-1575210600@louisebensondance.co.uk
SUMMARY:Finale Rehearsal
DESCRIPTION:Wickham Halls 12.30pm-2.30pm \nAll students
URL:https://louisebensondance.co.uk/event/finale-rehearsal/
LOCATION:Wickham Hall\, Sussex Road\, West Wickham\, BR4 0JX
END:VEVENT
BEGIN:VEVENT
DTSTART;TZID=Europe/London:20191117T120000
DTEND;TZID=Europe/London:20191117T140000
DTSTAMP:20260425T163525
CREATED:20190414T211200Z
LAST-MODIFIED:20190916T132045Z
UID:972-1573992000-1573999200@louisebensondance.co.uk
SUMMARY:Tapathon!
DESCRIPTION:
URL:https://louisebensondance.co.uk/event/tapathon-2/
LOCATION:Highfield Infants School\, Highfield Drive  \, Bromley  Kent  \, BR2 0RX\, United Kingdom
END:VEVENT
BEGIN:VEVENT
DTSTART;VALUE=DATE:20191021
DTEND;VALUE=DATE:20191025
DTSTAMP:20260425T163525
CREATED:20190414T211037Z
LAST-MODIFIED:20190916T131928Z
UID:970-1571616000-1571961599@louisebensondance.co.uk
SUMMARY:Half term week
DESCRIPTION:
URL:https://louisebensondance.co.uk/event/half-term-week-10/
END:VEVENT
BEGIN:VEVENT
DTSTART;TZID=Europe/London:20190929T140000
DTEND;TZID=Europe/London:20190929T170000
DTSTAMP:20260425T163525
CREATED:20190916T132219Z
LAST-MODIFIED:20190916T132300Z
UID:1036-1569765600-1569776400@louisebensondance.co.uk
SUMMARY:Tapathon Rehearsal
DESCRIPTION:
URL:https://louisebensondance.co.uk/event/tapathon-rehearsal/
LOCATION:West Wickham New Church\, 142 High Street\, West Wickham\, BR4 0LZ\, United Kingdom
END:VEVENT
BEGIN:VEVENT
DTSTART;TZID=Europe/London:20190909T080000
DTEND;TZID=Europe/London:20190912T170000
DTSTAMP:20260425T163525
CREATED:20190414T210852Z
LAST-MODIFIED:20190414T210852Z
UID:968-1568016000-1568307600@louisebensondance.co.uk
SUMMARY:Autumn term starts
DESCRIPTION:Our Autumn term starts.
URL:https://louisebensondance.co.uk/event/autumn-term-starts-6/
END:VEVENT
BEGIN:VEVENT
DTSTART;TZID=Europe/London:20190822T100000
DTEND;TZID=Europe/London:20190822T120000
DTSTAMP:20260425T163525
CREATED:20190714T215452Z
LAST-MODIFIED:20190714T215452Z
UID:1002-1566468000-1566475200@louisebensondance.co.uk
SUMMARY:Beauty and the Beast workshop
DESCRIPTION:
URL:https://louisebensondance.co.uk/event/beauty-and-the-beast-workshop/
LOCATION:Medhurst Hall\, Sussex Road\, BR4 0JX\, United Kingdom
ATTACH;FMTTYPE=image/png:https://louisebensondance.co.uk/wp-content/uploads/2019/07/BBpreschool-.png
END:VEVENT
BEGIN:VEVENT
DTSTART;TZID=Europe/London:20190815T100000
DTEND;TZID=Europe/London:20190815T120000
DTSTAMP:20260425T163525
CREATED:20190714T215245Z
LAST-MODIFIED:20190714T215245Z
UID:1000-1565863200-1565870400@louisebensondance.co.uk
SUMMARY:Moana Workshop
DESCRIPTION:This event has sold out.
URL:https://louisebensondance.co.uk/event/moana-workshop/
LOCATION:Medhurst Hall\, Sussex Road\, BR4 0JX\, United Kingdom
END:VEVENT
BEGIN:VEVENT
DTSTART;TZID=Europe/London:20190729T100000
DTEND;TZID=Europe/London:20190802T150000
DTSTAMP:20260425T163525
CREATED:20181129T133436Z
LAST-MODIFIED:20190714T215656Z
UID:864-1564394400-1564758000@louisebensondance.co.uk
SUMMARY:Summer School
DESCRIPTION:
URL:https://louisebensondance.co.uk/event/summer-school-5/
LOCATION:Highfield Junior School\, South Hill Road\, Bromley\, BR2 0RL
ATTACH;FMTTYPE=image/jpeg:https://louisebensondance.co.uk/wp-content/uploads/2018/11/finalss19.jpg
END:VEVENT
BEGIN:VEVENT
DTSTART;TZID=Europe/London:20190715T080000
DTEND;TZID=Europe/London:20190718T170000
DTSTAMP:20260425T163525
CREATED:20181129T133349Z
LAST-MODIFIED:20181129T133349Z
UID:862-1563177600-1563469200@louisebensondance.co.uk
SUMMARY:Last Class os Summer Term
DESCRIPTION:
URL:https://louisebensondance.co.uk/event/last-class-os-summer-term/
END:VEVENT
BEGIN:VEVENT
DTSTART;TZID=Europe/London:20190712T080000
DTEND;TZID=Europe/London:20190713T170000
DTSTAMP:20260425T163525
CREATED:20190106T133611Z
LAST-MODIFIED:20190106T133611Z
UID:898-1562918400-1563037200@louisebensondance.co.uk
SUMMARY:Ballet Exams
DESCRIPTION:
URL:https://louisebensondance.co.uk/event/ballet-exams-3/
LOCATION:West Wickham New Church\, 142 High Street\, West Wickham\, BR4 0LZ\, United Kingdom
END:VEVENT
BEGIN:VEVENT
DTSTART;TZID=Europe/London:20190706T080000
DTEND;TZID=Europe/London:20190706T170000
DTSTAMP:20260425T163525
CREATED:20190414T210636Z
LAST-MODIFIED:20190414T210636Z
UID:966-1562400000-1562432400@louisebensondance.co.uk
SUMMARY:Tap and modern exams
DESCRIPTION:
URL:https://louisebensondance.co.uk/event/tap-and-modern-exams/
LOCATION:West Wickham New Church\, 142 High Street\, West Wickham\, BR4 0LZ\, United Kingdom
END:VEVENT
BEGIN:VEVENT
DTSTART;TZID=Europe/London:20190623T080000
DTEND;TZID=Europe/London:20190623T170000
DTSTAMP:20260425T163525
CREATED:20190414T210509Z
LAST-MODIFIED:20190414T210509Z
UID:964-1561276800-1561309200@louisebensondance.co.uk
SUMMARY:Provisional Date for Singing Exams.
DESCRIPTION:Provisional date for LCM singing exams.
URL:https://louisebensondance.co.uk/event/provisional-date-for-singing-exams/
END:VEVENT
BEGIN:VEVENT
DTSTART;TZID=Europe/London:20190615T080000
DTEND;TZID=Europe/London:20190615T170000
DTSTAMP:20260425T163525
CREATED:20190414T210312Z
LAST-MODIFIED:20190414T210312Z
UID:962-1560585600-1560618000@louisebensondance.co.uk
SUMMARY:Oak Lodge Summer Fair
DESCRIPTION:Our Jazz\, musical Production and Acro dancers will be performing at the Oak Lodge Summer Fair.
URL:https://louisebensondance.co.uk/event/oak-lodge-summer-fair/
END:VEVENT
BEGIN:VEVENT
DTSTART;TZID=Europe/London:20190604T080000
DTEND;TZID=Europe/London:20190604T170000
DTSTAMP:20260425T163525
CREATED:20190414T210136Z
LAST-MODIFIED:20190414T210136Z
UID:960-1559635200-1559667600@louisebensondance.co.uk
SUMMARY:No Tuesday Classes at New Church
DESCRIPTION:New Church classes are not being held on this day.
URL:https://louisebensondance.co.uk/event/no-tuesday-classes-at-new-church/
LOCATION:West Wickham New Church\, 142 High Street\, West Wickham\, BR4 0LZ\, United Kingdom
END:VEVENT
BEGIN:VEVENT
DTSTART;VALUE=DATE:20190527
DTEND;VALUE=DATE:20190531
DTSTAMP:20260425T163525
CREATED:20181129T133307Z
LAST-MODIFIED:20181129T133307Z
UID:860-1558915200-1559260799@louisebensondance.co.uk
SUMMARY:Half term Week
DESCRIPTION:
URL:https://louisebensondance.co.uk/event/half-term-week-9/
END:VEVENT
BEGIN:VEVENT
DTSTART;TZID=Europe/London:20190523T080000
DTEND;TZID=Europe/London:20190523T170000
DTSTAMP:20260425T163525
CREATED:20190414T210015Z
LAST-MODIFIED:20190414T210015Z
UID:958-1558598400-1558630800@louisebensondance.co.uk
SUMMARY:No Thursday Classes
DESCRIPTION:Thursday classes are not being held on this day.
URL:https://louisebensondance.co.uk/event/no-thursday-classes/
END:VEVENT
BEGIN:VEVENT
DTSTART;TZID=Europe/London:20190506T080000
DTEND;TZID=Europe/London:20190506T170000
DTSTAMP:20260425T163525
CREATED:20190414T205803Z
LAST-MODIFIED:20190414T205838Z
UID:956-1557129600-1557162000@louisebensondance.co.uk
SUMMARY:West Wickham Village Day
DESCRIPTION:Our Jazz\, Musical production and Acro classes will be performing at 10.35am at Blake Park\, West Wickham.
URL:https://louisebensondance.co.uk/event/west-wickham-village-day-2/
END:VEVENT
BEGIN:VEVENT
DTSTART;TZID=Europe/London:20190424T160000
DTEND;TZID=Europe/London:20190425T193000
DTSTAMP:20260425T163525
CREATED:20181129T133156Z
LAST-MODIFIED:20190414T205629Z
UID:858-1556121600-1556220600@louisebensondance.co.uk
SUMMARY:Summer Term Starts
DESCRIPTION:Our new term starts.
URL:https://louisebensondance.co.uk/event/summer-term-starts/
LOCATION:Wickham Hall\, Sussex Road\, West Wickham\, BR4 0JX
END:VEVENT
BEGIN:VEVENT
DTSTART;TZID=Europe/London:20190412T100000
DTEND;TZID=Europe/London:20190412T160000
DTSTAMP:20260425T163525
CREATED:20181129T132949Z
LAST-MODIFIED:20181129T132949Z
UID:856-1555063200-1555084800@louisebensondance.co.uk
SUMMARY:Senior 1 Day Intensive Easter School
DESCRIPTION:
URL:https://louisebensondance.co.uk/event/senior-1-day-intensive-easter-school/
LOCATION:Highfield Infants School\, Highfield Drive  \, Bromley  Kent  \, BR2 0RX\, United Kingdom
END:VEVENT
BEGIN:VEVENT
DTSTART;TZID=Europe/London:20190408T100000
DTEND;TZID=Europe/London:20190411T150000
DTSTAMP:20260425T163525
CREATED:20181129T132753Z
LAST-MODIFIED:20190106T145007Z
UID:854-1554717600-1554994800@louisebensondance.co.uk
SUMMARY:Easter School
DESCRIPTION:The cost of the 4 days is £100 \nWith a workshop performance on the last day for friends and family. \n 
URL:https://louisebensondance.co.uk/event/easter-school-4/
LOCATION:Highfield Infants School\, Highfield Drive  \, Bromley  Kent  \, BR2 0RX\, United Kingdom
END:VEVENT
BEGIN:VEVENT
DTSTART;TZID=Europe/London:20190403T150000
DTEND;TZID=Europe/London:20190403T170000
DTSTAMP:20260425T163525
CREATED:20181129T132651Z
LAST-MODIFIED:20181129T132651Z
UID:852-1554303600-1554310800@louisebensondance.co.uk
SUMMARY:Last Class at St Olaves
DESCRIPTION:
URL:https://louisebensondance.co.uk/event/last-class-at-st-olaves/
LOCATION:St Olaves School\, Southwood Road \, SE9 3QS\, United Kingdom
END:VEVENT
BEGIN:VEVENT
DTSTART;VALUE=DATE:20190401
DTEND;VALUE=DATE:20190405
DTSTAMP:20260425T163525
CREATED:20181129T132528Z
LAST-MODIFIED:20181129T132601Z
UID:849-1554076800-1554422399@louisebensondance.co.uk
SUMMARY:Last Class of Spring Term
DESCRIPTION:
URL:https://louisebensondance.co.uk/event/last-class-os-spring-term/
END:VEVENT
BEGIN:VEVENT
DTSTART;TZID=Europe/London:20190322T080000
DTEND;TZID=Europe/London:20190323T170000
DTSTAMP:20260425T163525
CREATED:20181129T132053Z
LAST-MODIFIED:20181129T132053Z
UID:843-1553241600-1553360400@louisebensondance.co.uk
SUMMARY:Modern and Tap Exams
DESCRIPTION:
URL:https://louisebensondance.co.uk/event/modern-and-tap-exams/
LOCATION:West Wickham New Church\, 142 High Street\, West Wickham\, BR4 0LZ\, United Kingdom
END:VEVENT
BEGIN:VEVENT
DTSTART;TZID=Europe/London:20190221T133000
DTEND;TZID=Europe/London:20190221T180000
DTSTAMP:20260425T163525
CREATED:20190215T220254Z
LAST-MODIFIED:20190215T220254Z
UID:915-1550755800-1550772000@louisebensondance.co.uk
SUMMARY:Tap Exam Coaching
DESCRIPTION:
URL:https://louisebensondance.co.uk/event/tap-exam-coaching/
LOCATION:West Wickham New Church\, 142 High Street\, West Wickham\, BR4 0LZ\, United Kingdom
END:VEVENT
BEGIN:VEVENT
DTSTART;TZID=Europe/London:20190218T160000
DTEND;TZID=Europe/London:20190218T190000
DTSTAMP:20260425T163525
CREATED:20190215T220206Z
LAST-MODIFIED:20190215T220206Z
UID:913-1550505600-1550516400@louisebensondance.co.uk
SUMMARY:Modern Exam Coaching
DESCRIPTION:
URL:https://louisebensondance.co.uk/event/modern-exam-coaching/
LOCATION:Wickham Hall\, Sussex Road\, West Wickham\, BR4 0JX
END:VEVENT
BEGIN:VEVENT
DTSTART;VALUE=DATE:20190218
DTEND;VALUE=DATE:20190223
DTSTAMP:20260425T163525
CREATED:20181129T132209Z
LAST-MODIFIED:20181129T132209Z
UID:845-1550448000-1550879999@louisebensondance.co.uk
SUMMARY:Half Term Week
DESCRIPTION:
URL:https://louisebensondance.co.uk/event/half-term-week-8/
END:VEVENT
BEGIN:VEVENT
DTSTART;TZID=Europe/London:20190109T153000
DTEND;TZID=Europe/London:20190109T170000
DTSTAMP:20260425T163525
CREATED:20181129T131937Z
LAST-MODIFIED:20181129T131937Z
UID:841-1547047800-1547053200@louisebensondance.co.uk
SUMMARY:Spring Term Starts at St Olaves
DESCRIPTION:
URL:https://louisebensondance.co.uk/event/spring-term-starts-at-st-olaves/
LOCATION:St Olaves School\, Southwood Road \, SE9 3QS\, United Kingdom
END:VEVENT
BEGIN:VEVENT
DTSTART;TZID=Europe/London:20190108T160000
DTEND;TZID=Europe/London:20190111T203000
DTSTAMP:20260425T163525
CREATED:20181223T153933Z
LAST-MODIFIED:20181223T154033Z
UID:882-1546963200-1547238600@louisebensondance.co.uk
SUMMARY:Spring Term Starts
DESCRIPTION:
URL:https://louisebensondance.co.uk/event/spring-term-starts/
END:VEVENT
BEGIN:VEVENT
DTSTART;TZID=Europe/London:20190107T080000
DTEND;TZID=Europe/London:20190107T080000
DTSTAMP:20260425T163525
CREATED:20190106T132451Z
LAST-MODIFIED:20190106T132524Z
UID:896-1546848000-1546848000@louisebensondance.co.uk
SUMMARY:Spring Term Starts
DESCRIPTION:Monday classes held at New Church until 6.30pm only.
URL:https://louisebensondance.co.uk/event/spring-term-starts-2/
END:VEVENT
BEGIN:VEVENT
DTSTART;TZID=Europe/London:20181217T163000
DTEND;TZID=Europe/London:20181217T183000
DTSTAMP:20260425T163525
CREATED:20180625T212542Z
LAST-MODIFIED:20181129T125229Z
UID:736-1545064200-1545071400@louisebensondance.co.uk
SUMMARY:Christmas Party!!!
DESCRIPTION:Please book your tickets here! \nhttps://www.ticketsource.co.uk/louise-benson-school-of-dance
URL:https://louisebensondance.co.uk/event/christmas-party-2/
LOCATION:Wickham Hall\, Sussex Road\, West Wickham\, BR4 0JX
END:VEVENT
END:VCALENDAR