BEGIN:VCALENDAR
VERSION:2.0
PRODID:-//Louise Benson School of Dance - ECPv6.15.16.1//NONSGML v1.0//EN
CALSCALE:GREGORIAN
METHOD:PUBLISH
X-WR-CALNAME:Louise Benson School of Dance
X-ORIGINAL-URL:https://louisebensondance.co.uk
X-WR-CALDESC:Events for Louise Benson School of Dance
REFRESH-INTERVAL;VALUE=DURATION:PT1H
X-Robots-Tag:noindex
X-PUBLISHED-TTL:PT1H
BEGIN:VTIMEZONE
TZID:Europe/London
BEGIN:DAYLIGHT
TZOFFSETFROM:+0000
TZOFFSETTO:+0100
TZNAME:BST
DTSTART:20170326T010000
END:DAYLIGHT
BEGIN:STANDARD
TZOFFSETFROM:+0100
TZOFFSETTO:+0000
TZNAME:GMT
DTSTART:20171029T010000
END:STANDARD
BEGIN:DAYLIGHT
TZOFFSETFROM:+0000
TZOFFSETTO:+0100
TZNAME:BST
DTSTART:20180325T010000
END:DAYLIGHT
BEGIN:STANDARD
TZOFFSETFROM:+0100
TZOFFSETTO:+0000
TZNAME:GMT
DTSTART:20181028T010000
END:STANDARD
BEGIN:DAYLIGHT
TZOFFSETFROM:+0000
TZOFFSETTO:+0100
TZNAME:BST
DTSTART:20190331T010000
END:DAYLIGHT
BEGIN:STANDARD
TZOFFSETFROM:+0100
TZOFFSETTO:+0000
TZNAME:GMT
DTSTART:20191027T010000
END:STANDARD
BEGIN:DAYLIGHT
TZOFFSETFROM:+0000
TZOFFSETTO:+0100
TZNAME:BST
DTSTART:20200329T010000
END:DAYLIGHT
BEGIN:STANDARD
TZOFFSETFROM:+0100
TZOFFSETTO:+0000
TZNAME:GMT
DTSTART:20201025T010000
END:STANDARD
END:VTIMEZONE
BEGIN:VEVENT
DTSTART;TZID=Europe/London:20190412T100000
DTEND;TZID=Europe/London:20190412T160000
DTSTAMP:20260425T164255
CREATED:20181129T132949Z
LAST-MODIFIED:20181129T132949Z
UID:856-1555063200-1555084800@louisebensondance.co.uk
SUMMARY:Senior 1 Day Intensive Easter School
DESCRIPTION:
URL:https://louisebensondance.co.uk/event/senior-1-day-intensive-easter-school/
LOCATION:Highfield Infants School\, Highfield Drive  \, Bromley  Kent  \, BR2 0RX\, United Kingdom
END:VEVENT
BEGIN:VEVENT
DTSTART;TZID=Europe/London:20190408T100000
DTEND;TZID=Europe/London:20190411T150000
DTSTAMP:20260425T164255
CREATED:20181129T132753Z
LAST-MODIFIED:20190106T145007Z
UID:854-1554717600-1554994800@louisebensondance.co.uk
SUMMARY:Easter School
DESCRIPTION:The cost of the 4 days is £100 \nWith a workshop performance on the last day for friends and family. \n 
URL:https://louisebensondance.co.uk/event/easter-school-4/
LOCATION:Highfield Infants School\, Highfield Drive  \, Bromley  Kent  \, BR2 0RX\, United Kingdom
END:VEVENT
BEGIN:VEVENT
DTSTART;TZID=Europe/London:20190403T150000
DTEND;TZID=Europe/London:20190403T170000
DTSTAMP:20260425T164255
CREATED:20181129T132651Z
LAST-MODIFIED:20181129T132651Z
UID:852-1554303600-1554310800@louisebensondance.co.uk
SUMMARY:Last Class at St Olaves
DESCRIPTION:
URL:https://louisebensondance.co.uk/event/last-class-at-st-olaves/
LOCATION:St Olaves School\, Southwood Road \, SE9 3QS\, United Kingdom
END:VEVENT
BEGIN:VEVENT
DTSTART;VALUE=DATE:20190401
DTEND;VALUE=DATE:20190405
DTSTAMP:20260425T164255
CREATED:20181129T132528Z
LAST-MODIFIED:20181129T132601Z
UID:849-1554076800-1554422399@louisebensondance.co.uk
SUMMARY:Last Class of Spring Term
DESCRIPTION:
URL:https://louisebensondance.co.uk/event/last-class-os-spring-term/
END:VEVENT
BEGIN:VEVENT
DTSTART;TZID=Europe/London:20190322T080000
DTEND;TZID=Europe/London:20190323T170000
DTSTAMP:20260425T164255
CREATED:20181129T132053Z
LAST-MODIFIED:20181129T132053Z
UID:843-1553241600-1553360400@louisebensondance.co.uk
SUMMARY:Modern and Tap Exams
DESCRIPTION:
URL:https://louisebensondance.co.uk/event/modern-and-tap-exams/
LOCATION:West Wickham New Church\, 142 High Street\, West Wickham\, BR4 0LZ\, United Kingdom
END:VEVENT
BEGIN:VEVENT
DTSTART;TZID=Europe/London:20190221T133000
DTEND;TZID=Europe/London:20190221T180000
DTSTAMP:20260425T164255
CREATED:20190215T220254Z
LAST-MODIFIED:20190215T220254Z
UID:915-1550755800-1550772000@louisebensondance.co.uk
SUMMARY:Tap Exam Coaching
DESCRIPTION:
URL:https://louisebensondance.co.uk/event/tap-exam-coaching/
LOCATION:West Wickham New Church\, 142 High Street\, West Wickham\, BR4 0LZ\, United Kingdom
END:VEVENT
BEGIN:VEVENT
DTSTART;TZID=Europe/London:20190218T160000
DTEND;TZID=Europe/London:20190218T190000
DTSTAMP:20260425T164255
CREATED:20190215T220206Z
LAST-MODIFIED:20190215T220206Z
UID:913-1550505600-1550516400@louisebensondance.co.uk
SUMMARY:Modern Exam Coaching
DESCRIPTION:
URL:https://louisebensondance.co.uk/event/modern-exam-coaching/
LOCATION:Wickham Hall\, Sussex Road\, West Wickham\, BR4 0JX
END:VEVENT
BEGIN:VEVENT
DTSTART;VALUE=DATE:20190218
DTEND;VALUE=DATE:20190223
DTSTAMP:20260425T164255
CREATED:20181129T132209Z
LAST-MODIFIED:20181129T132209Z
UID:845-1550448000-1550879999@louisebensondance.co.uk
SUMMARY:Half Term Week
DESCRIPTION:
URL:https://louisebensondance.co.uk/event/half-term-week-8/
END:VEVENT
BEGIN:VEVENT
DTSTART;TZID=Europe/London:20190109T153000
DTEND;TZID=Europe/London:20190109T170000
DTSTAMP:20260425T164255
CREATED:20181129T131937Z
LAST-MODIFIED:20181129T131937Z
UID:841-1547047800-1547053200@louisebensondance.co.uk
SUMMARY:Spring Term Starts at St Olaves
DESCRIPTION:
URL:https://louisebensondance.co.uk/event/spring-term-starts-at-st-olaves/
LOCATION:St Olaves School\, Southwood Road \, SE9 3QS\, United Kingdom
END:VEVENT
BEGIN:VEVENT
DTSTART;TZID=Europe/London:20190108T160000
DTEND;TZID=Europe/London:20190111T203000
DTSTAMP:20260425T164255
CREATED:20181223T153933Z
LAST-MODIFIED:20181223T154033Z
UID:882-1546963200-1547238600@louisebensondance.co.uk
SUMMARY:Spring Term Starts
DESCRIPTION:
URL:https://louisebensondance.co.uk/event/spring-term-starts/
END:VEVENT
BEGIN:VEVENT
DTSTART;TZID=Europe/London:20190107T080000
DTEND;TZID=Europe/London:20190107T080000
DTSTAMP:20260425T164255
CREATED:20190106T132451Z
LAST-MODIFIED:20190106T132524Z
UID:896-1546848000-1546848000@louisebensondance.co.uk
SUMMARY:Spring Term Starts
DESCRIPTION:Monday classes held at New Church until 6.30pm only.
URL:https://louisebensondance.co.uk/event/spring-term-starts-2/
END:VEVENT
BEGIN:VEVENT
DTSTART;TZID=Europe/London:20181217T163000
DTEND;TZID=Europe/London:20181217T183000
DTSTAMP:20260425T164255
CREATED:20180625T212542Z
LAST-MODIFIED:20181129T125229Z
UID:736-1545064200-1545071400@louisebensondance.co.uk
SUMMARY:Christmas Party!!!
DESCRIPTION:Please book your tickets here! \nhttps://www.ticketsource.co.uk/louise-benson-school-of-dance
URL:https://louisebensondance.co.uk/event/christmas-party-2/
LOCATION:Wickham Hall\, Sussex Road\, West Wickham\, BR4 0JX
END:VEVENT
BEGIN:VEVENT
DTSTART;TZID=Europe/London:20181210T160000
DTEND;TZID=Europe/London:20181210T190000
DTSTAMP:20260425T164255
CREATED:20180625T212441Z
LAST-MODIFIED:20181129T125312Z
UID:734-1544457600-1544468400@louisebensondance.co.uk
SUMMARY:Prize-Giving 2018
DESCRIPTION:Please book you tickets here! \nhttps://www.ticketsource.co.uk/louise-benson-school-of-dance
URL:https://louisebensondance.co.uk/event/prize-giving-2018/
LOCATION:Langley Park School for Boys\, South Eden Park Road\, Beckenham\, Kent\, BR3 3BA\, United Kingdom
END:VEVENT
BEGIN:VEVENT
DTSTART;TZID=Europe/London:20181210T150000
DTEND;TZID=Europe/London:20181214T160000
DTSTAMP:20260425T164255
CREATED:20180625T210655Z
LAST-MODIFIED:20180625T210655Z
UID:729-1544454000-1544803200@louisebensondance.co.uk
SUMMARY:Last Week of Term
DESCRIPTION:
URL:https://louisebensondance.co.uk/event/last-week-of-term/
END:VEVENT
BEGIN:VEVENT
DTSTART;TZID=Europe/London:20181203T160000
DTEND;TZID=Europe/London:20181203T180000
DTSTAMP:20260425T164255
CREATED:20180625T211039Z
LAST-MODIFIED:20180625T212346Z
UID:731-1543852800-1543860000@louisebensondance.co.uk
SUMMARY:Prize -Giving Rehearsal
DESCRIPTION:For all pupils.
URL:https://louisebensondance.co.uk/event/prize-giving-rehearsal-3/
LOCATION:Langley Park School for Boys\, South Eden Park Road\, Beckenham\, Kent\, BR3 3BA\, United Kingdom
END:VEVENT
BEGIN:VEVENT
DTSTART;VALUE=DATE:20181118
DTEND;VALUE=DATE:20181119
DTSTAMP:20260425T164255
CREATED:20180822T200807Z
LAST-MODIFIED:20180822T200807Z
UID:794-1542499200-1542585599@louisebensondance.co.uk
SUMMARY:Tapathon
DESCRIPTION:
URL:https://louisebensondance.co.uk/event/tapathon/
END:VEVENT
BEGIN:VEVENT
DTSTART;VALUE=DATE:20181103
DTEND;VALUE=DATE:20181104
DTSTAMP:20260425T164255
CREATED:20180822T200712Z
LAST-MODIFIED:20180822T200712Z
UID:792-1541203200-1541289599@louisebensondance.co.uk
SUMMARY:Ballet Exams
DESCRIPTION:
URL:https://louisebensondance.co.uk/event/ballet-exams-2/
END:VEVENT
BEGIN:VEVENT
DTSTART;VALUE=DATE:20181102
DTEND;VALUE=DATE:20181103
DTSTAMP:20260425T164255
CREATED:20180822T201559Z
LAST-MODIFIED:20180822T201559Z
UID:807-1541116800-1541203199@louisebensondance.co.uk
SUMMARY:Ballet Exam Coaching
DESCRIPTION:
URL:https://louisebensondance.co.uk/event/ballet-exam-coaching-5/
END:VEVENT
BEGIN:VEVENT
DTSTART;VALUE=DATE:20181028
DTEND;VALUE=DATE:20181029
DTSTAMP:20260425T164255
CREATED:20180822T200921Z
LAST-MODIFIED:20180822T200921Z
UID:796-1540684800-1540771199@louisebensondance.co.uk
SUMMARY:Pianist Rehearsal For Ballet Exams
DESCRIPTION:
URL:https://louisebensondance.co.uk/event/pianist-rehearsal-for-ballet-exams/
END:VEVENT
BEGIN:VEVENT
DTSTART;VALUE=DATE:20181022
DTEND;VALUE=DATE:20181027
DTSTAMP:20260425T164255
CREATED:20180625T210531Z
LAST-MODIFIED:20180625T210531Z
UID:727-1540166400-1540598399@louisebensondance.co.uk
SUMMARY:Half Term Week
DESCRIPTION:
URL:https://louisebensondance.co.uk/event/half-term-week-7/
END:VEVENT
BEGIN:VEVENT
DTSTART;VALUE=DATE:20181022
DTEND;VALUE=DATE:20181023
DTSTAMP:20260425T164255
CREATED:20180822T201442Z
LAST-MODIFIED:20180822T201442Z
UID:805-1540166400-1540252799@louisebensondance.co.uk
SUMMARY:Ballet Exam Coaching
DESCRIPTION:
URL:https://louisebensondance.co.uk/event/ballet-exam-coaching-4/
END:VEVENT
BEGIN:VEVENT
DTSTART;VALUE=DATE:20181014
DTEND;VALUE=DATE:20181015
DTSTAMP:20260425T164255
CREATED:20180822T201318Z
LAST-MODIFIED:20180822T201318Z
UID:803-1539475200-1539561599@louisebensondance.co.uk
SUMMARY:Ballet Exam Coaching 3s/4s
DESCRIPTION:
URL:https://louisebensondance.co.uk/event/ballet-exam-coaching-3s-4s/
END:VEVENT
BEGIN:VEVENT
DTSTART;VALUE=DATE:20180930
DTEND;VALUE=DATE:20181001
DTSTAMP:20260425T164255
CREATED:20180822T201206Z
LAST-MODIFIED:20180822T201206Z
UID:800-1538265600-1538351999@louisebensondance.co.uk
SUMMARY:Ballet Exam Coaching for 3s/4s
DESCRIPTION:
URL:https://louisebensondance.co.uk/event/ballet-exam-coaching-for-3s-4s/
END:VEVENT
BEGIN:VEVENT
DTSTART;VALUE=DATE:20180916
DTEND;VALUE=DATE:20180917
DTSTAMP:20260425T164255
CREATED:20180822T201016Z
LAST-MODIFIED:20180822T201016Z
UID:798-1537056000-1537142399@louisebensondance.co.uk
SUMMARY:Ballet Exam Coaching
DESCRIPTION:
URL:https://louisebensondance.co.uk/event/ballet-exam-coaching-3/
END:VEVENT
BEGIN:VEVENT
DTSTART;VALUE=DATE:20180910
DTEND;VALUE=DATE:20180914
DTSTAMP:20260425T164255
CREATED:20180625T205712Z
LAST-MODIFIED:20180625T205712Z
UID:717-1536537600-1536883199@louisebensondance.co.uk
SUMMARY:Autumn Term Starts at West Wickham
DESCRIPTION:Welcome back to our new term at West Wickham!
URL:https://louisebensondance.co.uk/event/autumn-term-starts-at-west-wickham/
END:VEVENT
BEGIN:VEVENT
DTSTART;TZID=Europe/London:20180723T100000
DTEND;TZID=Europe/London:20180727T150000
DTSTAMP:20260425T164255
CREATED:20180625T205942Z
LAST-MODIFIED:20180625T210412Z
UID:721-1532340000-1532703600@louisebensondance.co.uk
SUMMARY:Summer School
DESCRIPTION:Our school of rock inspired summer school will have your child jumping for joy as they have a week of singing\, dancing and acting\, with a performance on the last day. \nWe have a weat end star on board to show us how to rock it out! \n  \n£125 10am-3pm
URL:https://louisebensondance.co.uk/event/summer-school-4/
LOCATION:Highfield Infants School\, Highfield Drive  \, Bromley  Kent  \, BR2 0RX\, United Kingdom
END:VEVENT
BEGIN:VEVENT
DTSTART;TZID=Europe/London:20180717T160000
DTEND;TZID=Europe/London:20180717T203000
DTSTAMP:20260425T164255
CREATED:20180625T205538Z
LAST-MODIFIED:20180625T205538Z
UID:715-1531843200-1531859400@louisebensondance.co.uk
SUMMARY:Make up class for Tuesdays at West Wickham
DESCRIPTION:
URL:https://louisebensondance.co.uk/event/make-up-class-for-tuesdays-at-west-wickham/
LOCATION:West Wickham New Church\, 142 High Street\, West Wickham\, BR4 0LZ\, United Kingdom
END:VEVENT
BEGIN:VEVENT
DTSTART;VALUE=DATE:20180713
DTEND;VALUE=DATE:20180714
DTSTAMP:20260425T164255
CREATED:20180324T102445Z
LAST-MODIFIED:20180324T102445Z
UID:694-1531440000-1531526399@louisebensondance.co.uk
SUMMARY:End of summer term
DESCRIPTION:
URL:https://louisebensondance.co.uk/event/end-of-summer-term/
END:VEVENT
BEGIN:VEVENT
DTSTART;VALUE=DATE:20180709
DTEND;VALUE=DATE:20180713
DTSTAMP:20260425T164255
CREATED:20180625T205837Z
LAST-MODIFIED:20180625T205837Z
UID:719-1531094400-1531439999@louisebensondance.co.uk
SUMMARY:Watch Week!
DESCRIPTION:Please come along at watch your childs class at all of our venues.
URL:https://louisebensondance.co.uk/event/watch-week/
END:VEVENT
BEGIN:VEVENT
DTSTART;TZID=Europe/London:20180603T150000
DTEND;TZID=Europe/London:20180603T170000
DTSTAMP:20260425T164255
CREATED:20170416T192547Z
LAST-MODIFIED:20170416T192547Z
UID:535-1528038000-1528045200@louisebensondance.co.uk
SUMMARY:Summer Show!
DESCRIPTION:
URL:https://louisebensondance.co.uk/event/summer-show-2/
END:VEVENT
END:VCALENDAR