BEGIN:VCALENDAR
VERSION:2.0
PRODID:-//Louise Benson School of Dance - ECPv6.15.16.1//NONSGML v1.0//EN
CALSCALE:GREGORIAN
METHOD:PUBLISH
X-ORIGINAL-URL:https://louisebensondance.co.uk
X-WR-CALDESC:Events for Louise Benson School of Dance
REFRESH-INTERVAL;VALUE=DURATION:PT1H
X-Robots-Tag:noindex
X-PUBLISHED-TTL:PT1H
BEGIN:VTIMEZONE
TZID:Europe/London
BEGIN:DAYLIGHT
TZOFFSETFROM:+0000
TZOFFSETTO:+0100
TZNAME:BST
DTSTART:20160327T010000
END:DAYLIGHT
BEGIN:STANDARD
TZOFFSETFROM:+0100
TZOFFSETTO:+0000
TZNAME:GMT
DTSTART:20161030T010000
END:STANDARD
BEGIN:DAYLIGHT
TZOFFSETFROM:+0000
TZOFFSETTO:+0100
TZNAME:BST
DTSTART:20170326T010000
END:DAYLIGHT
BEGIN:STANDARD
TZOFFSETFROM:+0100
TZOFFSETTO:+0000
TZNAME:GMT
DTSTART:20171029T010000
END:STANDARD
BEGIN:DAYLIGHT
TZOFFSETFROM:+0000
TZOFFSETTO:+0100
TZNAME:BST
DTSTART:20180325T010000
END:DAYLIGHT
BEGIN:STANDARD
TZOFFSETFROM:+0100
TZOFFSETTO:+0000
TZNAME:GMT
DTSTART:20181028T010000
END:STANDARD
BEGIN:DAYLIGHT
TZOFFSETFROM:+0000
TZOFFSETTO:+0100
TZNAME:BST
DTSTART:20190331T010000
END:DAYLIGHT
BEGIN:STANDARD
TZOFFSETFROM:+0100
TZOFFSETTO:+0000
TZNAME:GMT
DTSTART:20191027T010000
END:STANDARD
END:VTIMEZONE
BEGIN:VEVENT
DTSTART;VALUE=DATE:20181028
DTEND;VALUE=DATE:20181029
DTSTAMP:20260425T142837
CREATED:20180822T200921Z
LAST-MODIFIED:20180822T200921Z
UID:796-1540684800-1540771199@louisebensondance.co.uk
SUMMARY:Pianist Rehearsal For Ballet Exams
DESCRIPTION:
URL:https://louisebensondance.co.uk/event/pianist-rehearsal-for-ballet-exams/
END:VEVENT
BEGIN:VEVENT
DTSTART;VALUE=DATE:20181022
DTEND;VALUE=DATE:20181027
DTSTAMP:20260425T142837
CREATED:20180625T210531Z
LAST-MODIFIED:20180625T210531Z
UID:727-1540166400-1540598399@louisebensondance.co.uk
SUMMARY:Half Term Week
DESCRIPTION:
URL:https://louisebensondance.co.uk/event/half-term-week-7/
END:VEVENT
BEGIN:VEVENT
DTSTART;VALUE=DATE:20181022
DTEND;VALUE=DATE:20181023
DTSTAMP:20260425T142837
CREATED:20180822T201442Z
LAST-MODIFIED:20180822T201442Z
UID:805-1540166400-1540252799@louisebensondance.co.uk
SUMMARY:Ballet Exam Coaching
DESCRIPTION:
URL:https://louisebensondance.co.uk/event/ballet-exam-coaching-4/
END:VEVENT
BEGIN:VEVENT
DTSTART;VALUE=DATE:20181014
DTEND;VALUE=DATE:20181015
DTSTAMP:20260425T142837
CREATED:20180822T201318Z
LAST-MODIFIED:20180822T201318Z
UID:803-1539475200-1539561599@louisebensondance.co.uk
SUMMARY:Ballet Exam Coaching 3s/4s
DESCRIPTION:
URL:https://louisebensondance.co.uk/event/ballet-exam-coaching-3s-4s/
END:VEVENT
BEGIN:VEVENT
DTSTART;VALUE=DATE:20180930
DTEND;VALUE=DATE:20181001
DTSTAMP:20260425T142837
CREATED:20180822T201206Z
LAST-MODIFIED:20180822T201206Z
UID:800-1538265600-1538351999@louisebensondance.co.uk
SUMMARY:Ballet Exam Coaching for 3s/4s
DESCRIPTION:
URL:https://louisebensondance.co.uk/event/ballet-exam-coaching-for-3s-4s/
END:VEVENT
BEGIN:VEVENT
DTSTART;VALUE=DATE:20180916
DTEND;VALUE=DATE:20180917
DTSTAMP:20260425T142837
CREATED:20180822T201016Z
LAST-MODIFIED:20180822T201016Z
UID:798-1537056000-1537142399@louisebensondance.co.uk
SUMMARY:Ballet Exam Coaching
DESCRIPTION:
URL:https://louisebensondance.co.uk/event/ballet-exam-coaching-3/
END:VEVENT
BEGIN:VEVENT
DTSTART;VALUE=DATE:20180910
DTEND;VALUE=DATE:20180914
DTSTAMP:20260425T142837
CREATED:20180625T205712Z
LAST-MODIFIED:20180625T205712Z
UID:717-1536537600-1536883199@louisebensondance.co.uk
SUMMARY:Autumn Term Starts at West Wickham
DESCRIPTION:Welcome back to our new term at West Wickham!
URL:https://louisebensondance.co.uk/event/autumn-term-starts-at-west-wickham/
END:VEVENT
BEGIN:VEVENT
DTSTART;TZID=Europe/London:20180723T100000
DTEND;TZID=Europe/London:20180727T150000
DTSTAMP:20260425T142837
CREATED:20180625T205942Z
LAST-MODIFIED:20180625T210412Z
UID:721-1532340000-1532703600@louisebensondance.co.uk
SUMMARY:Summer School
DESCRIPTION:Our school of rock inspired summer school will have your child jumping for joy as they have a week of singing\, dancing and acting\, with a performance on the last day. \nWe have a weat end star on board to show us how to rock it out! \n  \n£125 10am-3pm
URL:https://louisebensondance.co.uk/event/summer-school-4/
LOCATION:Highfield Infants School\, Highfield Drive  \, Bromley  Kent  \, BR2 0RX\, United Kingdom
END:VEVENT
BEGIN:VEVENT
DTSTART;TZID=Europe/London:20180717T160000
DTEND;TZID=Europe/London:20180717T203000
DTSTAMP:20260425T142837
CREATED:20180625T205538Z
LAST-MODIFIED:20180625T205538Z
UID:715-1531843200-1531859400@louisebensondance.co.uk
SUMMARY:Make up class for Tuesdays at West Wickham
DESCRIPTION:
URL:https://louisebensondance.co.uk/event/make-up-class-for-tuesdays-at-west-wickham/
LOCATION:West Wickham New Church\, 142 High Street\, West Wickham\, BR4 0LZ\, United Kingdom
END:VEVENT
BEGIN:VEVENT
DTSTART;VALUE=DATE:20180713
DTEND;VALUE=DATE:20180714
DTSTAMP:20260425T142837
CREATED:20180324T102445Z
LAST-MODIFIED:20180324T102445Z
UID:694-1531440000-1531526399@louisebensondance.co.uk
SUMMARY:End of summer term
DESCRIPTION:
URL:https://louisebensondance.co.uk/event/end-of-summer-term/
END:VEVENT
BEGIN:VEVENT
DTSTART;VALUE=DATE:20180709
DTEND;VALUE=DATE:20180713
DTSTAMP:20260425T142837
CREATED:20180625T205837Z
LAST-MODIFIED:20180625T205837Z
UID:719-1531094400-1531439999@louisebensondance.co.uk
SUMMARY:Watch Week!
DESCRIPTION:Please come along at watch your childs class at all of our venues.
URL:https://louisebensondance.co.uk/event/watch-week/
END:VEVENT
BEGIN:VEVENT
DTSTART;TZID=Europe/London:20180603T150000
DTEND;TZID=Europe/London:20180603T170000
DTSTAMP:20260425T142837
CREATED:20170416T192547Z
LAST-MODIFIED:20170416T192547Z
UID:535-1528038000-1528045200@louisebensondance.co.uk
SUMMARY:Summer Show!
DESCRIPTION:
URL:https://louisebensondance.co.uk/event/summer-show-2/
END:VEVENT
BEGIN:VEVENT
DTSTART;TZID=Europe/London:20180602T150000
DTEND;TZID=Europe/London:20180602T170000
DTSTAMP:20260425T142837
CREATED:20170416T192216Z
LAST-MODIFIED:20170416T192507Z
UID:533-1527951600-1527958800@louisebensondance.co.uk
SUMMARY:Summer Show!
DESCRIPTION:
URL:https://louisebensondance.co.uk/event/summer-show/
END:VEVENT
BEGIN:VEVENT
DTSTART;TZID=Europe/London:20180601T080000
DTEND;TZID=Europe/London:20180601T170000
DTSTAMP:20260425T142837
CREATED:20171205T214645Z
LAST-MODIFIED:20171205T214734Z
UID:669-1527840000-1527872400@louisebensondance.co.uk
SUMMARY:Tech Run at Barn Theatre
DESCRIPTION:
URL:https://louisebensondance.co.uk/event/tech-run-barn-theatre/
END:VEVENT
BEGIN:VEVENT
DTSTART;VALUE=DATE:20180528
DTEND;VALUE=DATE:20180601
DTSTAMP:20260425T142837
CREATED:20171205T214520Z
LAST-MODIFIED:20171205T214520Z
UID:667-1527465600-1527811199@louisebensondance.co.uk
SUMMARY:Half Term Week
DESCRIPTION:
URL:https://louisebensondance.co.uk/event/half-term-week-6/
END:VEVENT
BEGIN:VEVENT
DTSTART;TZID=Europe/London:20180526T140000
DTEND;TZID=Europe/London:20180526T173000
DTSTAMP:20260425T142837
CREATED:20180326T121514Z
LAST-MODIFIED:20180326T121514Z
UID:696-1527343200-1527355800@louisebensondance.co.uk
SUMMARY:Full dress run
DESCRIPTION:
URL:https://louisebensondance.co.uk/event/full-dress-run/
LOCATION:Wickham Hall\, Sussex Road\, West Wickham\, BR4 0JX
END:VEVENT
BEGIN:VEVENT
DTSTART;TZID=Europe/London:20180416T160000
DTEND;TZID=Europe/London:20180416T193000
DTSTAMP:20260425T142837
CREATED:20171205T214355Z
LAST-MODIFIED:20171205T214355Z
UID:665-1523894400-1523907000@louisebensondance.co.uk
SUMMARY:Summer Term Starts at West Wickham
DESCRIPTION:
URL:https://louisebensondance.co.uk/event/summer-term-starts-west-wickham-2/
LOCATION:Wickham Hall\, Sussex Road\, West Wickham\, BR4 0JX
END:VEVENT
BEGIN:VEVENT
DTSTART;TZID=Europe/London:20180409T100000
DTEND;TZID=Europe/London:20180412T150000
DTSTAMP:20260425T142837
CREATED:20171205T214126Z
LAST-MODIFIED:20171205T214126Z
UID:663-1523268000-1523545200@louisebensondance.co.uk
SUMMARY:Easter School
DESCRIPTION:
URL:https://louisebensondance.co.uk/event/easter-school-3/
LOCATION:Highfield Infants School\, Highfield Drive  \, Bromley  Kent  \, BR2 0RX\, United Kingdom
END:VEVENT
BEGIN:VEVENT
DTSTART;TZID=Europe/London:20180329T160000
DTEND;TZID=Europe/London:20180329T200000
DTSTAMP:20260425T142837
CREATED:20171205T213956Z
LAST-MODIFIED:20171205T213956Z
UID:661-1522339200-1522353600@louisebensondance.co.uk
SUMMARY:Spring Term Ends
DESCRIPTION:
URL:https://louisebensondance.co.uk/event/spring-term-ends/
END:VEVENT
BEGIN:VEVENT
DTSTART;TZID=Europe/London:20180212T080000
DTEND;TZID=Europe/London:20180216T170000
DTSTAMP:20260425T142837
CREATED:20171205T213332Z
LAST-MODIFIED:20171205T213332Z
UID:659-1518422400-1518800400@louisebensondance.co.uk
SUMMARY:Half Term Week
DESCRIPTION:
URL:https://louisebensondance.co.uk/event/half-term-week-5/
END:VEVENT
BEGIN:VEVENT
DTSTART;TZID=Europe/London:20180109T153000
DTEND;TZID=Europe/London:20180109T163000
DTSTAMP:20260425T142837
CREATED:20171205T212853Z
LAST-MODIFIED:20171205T212853Z
UID:655-1515511800-1515515400@louisebensondance.co.uk
SUMMARY:Highfield Class Start
DESCRIPTION:
URL:https://louisebensondance.co.uk/event/highfield-class-start/
LOCATION:Highfield Junior School\, South Hill Road\, Bromley\, BR2 0RL
END:VEVENT
BEGIN:VEVENT
DTSTART;TZID=Europe/London:20180108T160000
DTEND;TZID=Europe/London:20180108T203000
DTSTAMP:20260425T142837
CREATED:20171205T213111Z
LAST-MODIFIED:20171230T105040Z
UID:657-1515427200-1515443400@louisebensondance.co.uk
SUMMARY:Spring Term starts at West Wickham
DESCRIPTION:
URL:https://louisebensondance.co.uk/event/spring-term-starts-west-wickham-2/
LOCATION:West Wickham New Church\, 142 High Street\, West Wickham\, BR4 0LZ\, United Kingdom
END:VEVENT
BEGIN:VEVENT
DTSTART;TZID=Europe/London:20171219T160000
DTEND;TZID=Europe/London:20171219T180000
DTSTAMP:20260425T142837
CREATED:20170815T152239Z
LAST-MODIFIED:20170815T152618Z
UID:593-1513699200-1513706400@louisebensondance.co.uk
SUMMARY:Our Christmas Party!!!
DESCRIPTION:4pm-6pm at Wickham Halls with the Funky Chicks!!! \n£6 per child all children are welcome from our Little Lovelies and up! \n  \n 
URL:https://louisebensondance.co.uk/event/our-christmas-party/
LOCATION:Wickham Hall\, Sussex Road\, West Wickham\, BR4 0JX
END:VEVENT
BEGIN:VEVENT
DTSTART;TZID=Europe/London:20171218T153000
DTEND;TZID=Europe/London:20171218T190000
DTSTAMP:20260425T142837
CREATED:20170703T150134Z
LAST-MODIFIED:20170815T153352Z
UID:566-1513611000-1513623600@louisebensondance.co.uk
SUMMARY:Prize Giving Performance
DESCRIPTION:Starts at 5pm-6.30pm
URL:https://louisebensondance.co.uk/event/prize-giving-performance-2/
LOCATION:Langley Park School for Girls\, Hawksbrook Lane\, South Eden Park Road\, Beckenham\, Kent\, BR3 3BE\, United Kingdom
END:VEVENT
BEGIN:VEVENT
DTSTART;TZID=Europe/London:20171216T090000
DTEND;TZID=Europe/London:20171216T110000
DTSTAMP:20260425T142837
CREATED:20170703T150036Z
LAST-MODIFIED:20170703T150036Z
UID:564-1513414800-1513422000@louisebensondance.co.uk
SUMMARY:Prize Giving rehearsal
DESCRIPTION:
URL:https://louisebensondance.co.uk/event/prize-giving-rehearsal-2/
END:VEVENT
BEGIN:VEVENT
DTSTART;TZID=Europe/London:20171212T153000
DTEND;TZID=Europe/London:20171212T153000
DTSTAMP:20260425T142837
CREATED:20171205T211228Z
LAST-MODIFIED:20171205T211228Z
UID:653-1513092600-1513092600@louisebensondance.co.uk
SUMMARY:End of term for Highfield
DESCRIPTION:
URL:https://louisebensondance.co.uk/event/end-term-highfield-2/
LOCATION:Highfield Junior School\, South Hill Road\, Bromley\, BR2 0RL
END:VEVENT
BEGIN:VEVENT
DTSTART;VALUE=DATE:20171023
DTEND;VALUE=DATE:20171028
DTSTAMP:20260425T142837
CREATED:20170925T103331Z
LAST-MODIFIED:20170925T103401Z
UID:603-1508716800-1509148799@louisebensondance.co.uk
SUMMARY:Half term week
DESCRIPTION:
URL:https://louisebensondance.co.uk/event/half-term-week-4/
END:VEVENT
BEGIN:VEVENT
DTSTART;VALUE=DATE:20171023
DTEND;VALUE=DATE:20171028
DTSTAMP:20260425T142837
CREATED:20170815T152023Z
LAST-MODIFIED:20170815T152023Z
UID:591-1508716800-1509148799@louisebensondance.co.uk
SUMMARY:Half term week
DESCRIPTION:
URL:https://louisebensondance.co.uk/event/half-term-week-3/
END:VEVENT
BEGIN:VEVENT
DTSTART;TZID=Europe/London:20170913T153000
DTEND;TZID=Europe/London:20170913T180000
DTSTAMP:20260425T142837
CREATED:20170815T151917Z
LAST-MODIFIED:20170815T151917Z
UID:589-1505316600-1505325600@louisebensondance.co.uk
SUMMARY:Autumn Term Starts at St Olaves
DESCRIPTION:
URL:https://louisebensondance.co.uk/event/autumn-term-starts-st-olaves-2/
LOCATION:St Olaves School\, Southwood Road \, SE9 3QS\, United Kingdom
END:VEVENT
BEGIN:VEVENT
DTSTART;TZID=Europe/London:20170912T153000
DTEND;TZID=Europe/London:20170912T163000
DTSTAMP:20260425T142837
CREATED:20170815T151822Z
LAST-MODIFIED:20170815T151822Z
UID:587-1505230200-1505233800@louisebensondance.co.uk
SUMMARY:Autumn Term Starts at Highfield Junior School
DESCRIPTION:
URL:https://louisebensondance.co.uk/event/autumn-term-starts-highfield-junior-school/
LOCATION:Highfield Junior School\, South Hill Road\, Bromley\, BR2 0RL
END:VEVENT
END:VCALENDAR