BEGIN:VCALENDAR
VERSION:2.0
PRODID:-//Louise Benson School of Dance - ECPv6.15.16.1//NONSGML v1.0//EN
CALSCALE:GREGORIAN
METHOD:PUBLISH
X-WR-CALNAME:Louise Benson School of Dance
X-ORIGINAL-URL:https://louisebensondance.co.uk
X-WR-CALDESC:Events for Louise Benson School of Dance
REFRESH-INTERVAL;VALUE=DURATION:PT1H
X-Robots-Tag:noindex
X-PUBLISHED-TTL:PT1H
BEGIN:VTIMEZONE
TZID:Europe/London
BEGIN:DAYLIGHT
TZOFFSETFROM:+0000
TZOFFSETTO:+0100
TZNAME:BST
DTSTART:20160327T010000
END:DAYLIGHT
BEGIN:STANDARD
TZOFFSETFROM:+0100
TZOFFSETTO:+0000
TZNAME:GMT
DTSTART:20161030T010000
END:STANDARD
BEGIN:DAYLIGHT
TZOFFSETFROM:+0000
TZOFFSETTO:+0100
TZNAME:BST
DTSTART:20170326T010000
END:DAYLIGHT
BEGIN:STANDARD
TZOFFSETFROM:+0100
TZOFFSETTO:+0000
TZNAME:GMT
DTSTART:20171029T010000
END:STANDARD
BEGIN:DAYLIGHT
TZOFFSETFROM:+0000
TZOFFSETTO:+0100
TZNAME:BST
DTSTART:20180325T010000
END:DAYLIGHT
BEGIN:STANDARD
TZOFFSETFROM:+0100
TZOFFSETTO:+0000
TZNAME:GMT
DTSTART:20181028T010000
END:STANDARD
END:VTIMEZONE
BEGIN:VEVENT
DTSTART;TZID=Europe/London:20170724T100000
DTEND;TZID=Europe/London:20170728T150000
DTSTAMP:20260426T044655
CREATED:20161025T211017Z
LAST-MODIFIED:20170413T203856Z
UID:468-1500890400-1501254000@louisebensondance.co.uk
SUMMARY:Summer School
DESCRIPTION:A fabulous ‘Hairspray’ inspired Summer school\, full of singing\, dancing and acting with a workshop performance in costume\, on the last day for friends and family. \nSuitable for children from reception to teens. \n£115 for the 5 days.
URL:https://louisebensondance.co.uk/event/summer-school-3/
LOCATION:Highfield Infants School\, Highfield Drive  \, Bromley  Kent  \, BR2 0RX\, United Kingdom
END:VEVENT
BEGIN:VEVENT
DTSTART;TZID=Europe/London:20170717T080000
DTEND;TZID=Europe/London:20170720T170000
DTSTAMP:20260426T044655
CREATED:20170227T105459Z
LAST-MODIFIED:20170227T105459Z
UID:499-1500278400-1500570000@louisebensondance.co.uk
SUMMARY:Last week of term for West Wickham
DESCRIPTION:
URL:https://louisebensondance.co.uk/event/last-week-term-west-wickham/
END:VEVENT
BEGIN:VEVENT
DTSTART;TZID=Europe/London:20170711T153000
DTEND;TZID=Europe/London:20170711T164500
DTSTAMP:20260426T044655
CREATED:20170227T105344Z
LAST-MODIFIED:20170227T105344Z
UID:498-1499787000-1499791500@louisebensondance.co.uk
SUMMARY:Last highfield class
DESCRIPTION:Watch week for parents of these children
URL:https://louisebensondance.co.uk/event/last-highfield-class/
LOCATION:Highfield Junior School\, South Hill Road\, Bromley\, BR2 0RL
END:VEVENT
BEGIN:VEVENT
DTSTART;TZID=Europe/London:20170708T080000
DTEND;TZID=Europe/London:20170708T170000
DTSTAMP:20260426T044655
CREATED:20170416T192847Z
LAST-MODIFIED:20170416T192847Z
UID:539-1499500800-1499533200@louisebensondance.co.uk
SUMMARY:Ballet Exams
DESCRIPTION:
URL:https://louisebensondance.co.uk/event/ballet-exams/
LOCATION:West Wickham New Church\, 142 High Street\, West Wickham\, BR4 0LZ\, United Kingdom
END:VEVENT
BEGIN:VEVENT
DTSTART;TZID=Europe/London:20170702T150000
DTEND;TZID=Europe/London:20170702T160000
DTSTAMP:20260426T044655
CREATED:20170227T105220Z
LAST-MODIFIED:20170513T145234Z
UID:497-1499007600-1499011200@louisebensondance.co.uk
SUMMARY:Hawes Down junior school summer fair
DESCRIPTION:Our pupils will be performing between 3pm and 4pm!
URL:https://louisebensondance.co.uk/event/hawes-summer-fair/
END:VEVENT
BEGIN:VEVENT
DTSTART;TZID=Europe/London:20170624T080000
DTEND;TZID=Europe/London:20170624T170000
DTSTAMP:20260426T044655
CREATED:20170227T105041Z
LAST-MODIFIED:20170227T105052Z
UID:496-1498291200-1498323600@louisebensondance.co.uk
SUMMARY:Highfield summer fair
DESCRIPTION:Our pupils will be perfoming
URL:https://louisebensondance.co.uk/event/highfield-summer-fair/
LOCATION:Highfield Junior School\, South Hill Road\, Bromley\, BR2 0RL
END:VEVENT
BEGIN:VEVENT
DTSTART;TZID=Europe/London:20170531T150000
DTEND;TZID=Europe/London:20170531T190000
DTSTAMP:20260426T044655
CREATED:20170513T145911Z
LAST-MODIFIED:20170513T150720Z
UID:556-1496242800-1496257200@louisebensondance.co.uk
SUMMARY:Ballet exam coaching
DESCRIPTION:For selected students. \n3.15pm-4pm Pre-Primaries \n4pm-4.45pm Grade 1s \n4.45pm-5.30pm Primarys \n5.30pm – 6.15pm Grade 3s \n6.15pm-7pm Grade 2s \n£5.50 per class.
URL:https://louisebensondance.co.uk/event/ballet-exam-coaching-2/
LOCATION:West Wickham New Church\, 142 High Street\, West Wickham\, BR4 0LZ\, United Kingdom
END:VEVENT
BEGIN:VEVENT
DTSTART;TZID=Europe/London:20170530T193000
DTEND;TZID=Europe/London:20170530T230000
DTSTAMP:20260426T044655
CREATED:20170416T192713Z
LAST-MODIFIED:20170416T192713Z
UID:537-1496172600-1496185200@louisebensondance.co.uk
SUMMARY:42nd Street!
DESCRIPTION:A group outing to see the fabulous 42nd street!
URL:https://louisebensondance.co.uk/event/42nd-street/
END:VEVENT
BEGIN:VEVENT
DTSTART;TZID=Europe/London:20170529T080000
DTEND;TZID=Europe/London:20170602T170000
DTSTAMP:20260426T044655
CREATED:20170227T104702Z
LAST-MODIFIED:20170227T104702Z
UID:493-1496044800-1496422800@louisebensondance.co.uk
SUMMARY:Half term week
DESCRIPTION:The school will be closed for half term
URL:https://louisebensondance.co.uk/event/half-term-week-2/
END:VEVENT
BEGIN:VEVENT
DTSTART;TZID=Europe/London:20170524T160000
DTEND;TZID=Europe/London:20170524T190000
DTSTAMP:20260426T044655
CREATED:20170513T145616Z
LAST-MODIFIED:20170513T145616Z
UID:554-1495641600-1495652400@louisebensondance.co.uk
SUMMARY:Ballet exam coaching
DESCRIPTION:For selected students. \n4pm-4.45pm Grade 1s \n4.45pm-5.30pm Primarys \n5.30pm – 6.15pm Grade 3s \n6.15pm-7pm Grade 2s \n£5.50 per class.
URL:https://louisebensondance.co.uk/event/ballet-exam-coaching/
LOCATION:Wickham Hall\, Sussex Road\, West Wickham\, BR4 0JX
END:VEVENT
BEGIN:VEVENT
DTSTART;TZID=Europe/London:20170501T080000
DTEND;TZID=Europe/London:20170501T170000
DTSTAMP:20260426T044655
CREATED:20170227T104906Z
LAST-MODIFIED:20170227T104906Z
UID:495-1493625600-1493658000@louisebensondance.co.uk
SUMMARY:West Wickham Village Day
DESCRIPTION:Our jazz and musical production students will be performing
URL:https://louisebensondance.co.uk/event/west-wickham-village-day/
END:VEVENT
BEGIN:VEVENT
DTSTART;TZID=Europe/London:20170425T153000
DTEND;TZID=Europe/London:20170425T164500
DTSTAMP:20260426T044655
CREATED:20170227T104548Z
LAST-MODIFIED:20170227T104548Z
UID:492-1493134200-1493138700@louisebensondance.co.uk
SUMMARY:Summer term starts at Highfield
DESCRIPTION:
URL:https://louisebensondance.co.uk/event/summer-term-starts-highfield/
LOCATION:Highfield Junior School\, South Hill Road\, Bromley\, BR2 0RL
END:VEVENT
BEGIN:VEVENT
DTSTART;TZID=Europe/London:20170424T160000
DTEND;TZID=Europe/London:20170427T193000
DTSTAMP:20260426T044655
CREATED:20170227T104500Z
LAST-MODIFIED:20170227T104801Z
UID:491-1493049600-1493321400@louisebensondance.co.uk
SUMMARY:Summer term starts for West Wickham
DESCRIPTION:
URL:https://louisebensondance.co.uk/event/summer-term-starts-west-wickham/
LOCATION:West Wickham New Church\, 142 High Street\, West Wickham\, BR4 0LZ\, United Kingdom
END:VEVENT
BEGIN:VEVENT
DTSTART;TZID=Europe/London:20170419T160000
DTEND;TZID=Europe/London:20170419T170000
DTSTAMP:20260426T044655
CREATED:20170416T193208Z
LAST-MODIFIED:20170416T193208Z
UID:541-1492617600-1492621200@louisebensondance.co.uk
SUMMARY:Jazz and Musical Production Rehearsal
DESCRIPTION:
URL:https://louisebensondance.co.uk/event/jazz-musical-production-rehearsal/
LOCATION:Wickham Hall\, Sussex Road\, West Wickham\, BR4 0JX
END:VEVENT
BEGIN:VEVENT
DTSTART;TZID=Europe/London:20170403T100000
DTEND;TZID=Europe/London:20170406T150000
DTSTAMP:20260426T044655
CREATED:20161025T210911Z
LAST-MODIFIED:20170115T212546Z
UID:467-1491213600-1491490800@louisebensondance.co.uk
SUMMARY:Easter School
DESCRIPTION:
URL:https://louisebensondance.co.uk/event/easter-school-2/
LOCATION:Highfield Infants School\, Highfield Drive  \, Bromley  Kent  \, BR2 0RX\, United Kingdom
END:VEVENT
BEGIN:VEVENT
DTSTART;VALUE=DATE:20170327
DTEND;VALUE=DATE:20170401
DTSTAMP:20260426T044655
CREATED:20170102T212108Z
LAST-MODIFIED:20170102T212108Z
UID:478-1490572800-1491004799@louisebensondance.co.uk
SUMMARY:End of term for all classes
DESCRIPTION:
URL:https://louisebensondance.co.uk/event/end-term-classes-2-4/
END:VEVENT
BEGIN:VEVENT
DTSTART;TZID=Europe/London:20170325T100000
DTEND;TZID=Europe/London:20170325T170000
DTSTAMP:20260426T044655
CREATED:20170227T104343Z
LAST-MODIFIED:20170227T104343Z
UID:490-1490436000-1490461200@louisebensondance.co.uk
SUMMARY:Modern and Tap exams
DESCRIPTION:10am-5pm
URL:https://louisebensondance.co.uk/event/modern-tap-exams/
LOCATION:West Wickham New Church\, 142 High Street\, West Wickham\, BR4 0LZ\, United Kingdom
END:VEVENT
BEGIN:VEVENT
DTSTART;TZID=Europe/London:20170324T170000
DTEND;TZID=Europe/London:20170324T183000
DTSTAMP:20260426T044655
CREATED:20170227T104211Z
LAST-MODIFIED:20170227T104211Z
UID:489-1490374800-1490380200@louisebensondance.co.uk
SUMMARY:Grade 3 Tap and Modern coaching
DESCRIPTION:Grade 3 tap 5pm-5\,45pm \nGrade 3 Modern 5.45pm-6.30pm \n£5.50 per class
URL:https://louisebensondance.co.uk/event/grade-3-tap-modern-coaching/
LOCATION:West Wickham New Church\, 142 High Street\, West Wickham\, BR4 0LZ\, United Kingdom
END:VEVENT
BEGIN:VEVENT
DTSTART;TZID=Europe/London:20170324T130000
DTEND;TZID=Europe/London:20170324T170000
DTSTAMP:20260426T044655
CREATED:20170227T104052Z
LAST-MODIFIED:20170227T104052Z
UID:488-1490360400-1490374800@louisebensondance.co.uk
SUMMARY:Tap and Modern exams
DESCRIPTION:From 1pm
URL:https://louisebensondance.co.uk/event/tap-modern-exams/
LOCATION:West Wickham New Church\, 142 High Street\, West Wickham\, BR4 0LZ\, United Kingdom
END:VEVENT
BEGIN:VEVENT
DTSTART;TZID=Europe/London:20170322T160000
DTEND;TZID=Europe/London:20170322T190000
DTSTAMP:20260426T044655
CREATED:20170227T103920Z
LAST-MODIFIED:20170227T103920Z
UID:487-1490198400-1490209200@louisebensondance.co.uk
SUMMARY:Tap and Modern exam coaching
DESCRIPTION:Grade 1 modern 4pm-4.45pm \nGrade 2 modern 4.45pm-5.30pm \nGrade 3 modern 5.30pm-6.15pm \nGrade 1 tap 6.15pm-7pm \n£5.50 per class
URL:https://louisebensondance.co.uk/event/tap-modern-exam-coaching-5/
LOCATION:Wickham Hall\, Sussex Road\, West Wickham\, BR4 0JX
END:VEVENT
BEGIN:VEVENT
DTSTART;VALUE=DATE:20170320
DTEND;VALUE=DATE:20170325
DTSTAMP:20260426T044655
CREATED:20170102T212247Z
LAST-MODIFIED:20170102T212247Z
UID:479-1489968000-1490399999@louisebensondance.co.uk
SUMMARY:End of term for St Christophers Classes
DESCRIPTION:
URL:https://louisebensondance.co.uk/event/end-term-st-christophers-classes/
END:VEVENT
BEGIN:VEVENT
DTSTART;TZID=Europe/London:20170319T133000
DTEND;TZID=Europe/London:20170319T163000
DTSTAMP:20260426T044655
CREATED:20170227T103723Z
LAST-MODIFIED:20170227T103723Z
UID:486-1489930200-1489941000@louisebensondance.co.uk
SUMMARY:Tap and Modern exam coaching
DESCRIPTION:Pre-Primary tap 1.30pm-2.15pm \nPrimary tap 2.15pm-3pm \nGrade 2 tap 3pm-3.45pm \nGrade 3 modern 3.45pm-4.30pm \n£5.50 per class
URL:https://louisebensondance.co.uk/event/tap-modern-exam-coaching-4/
LOCATION:West Wickham New Church\, 142 High Street\, West Wickham\, BR4 0LZ\, United Kingdom
END:VEVENT
BEGIN:VEVENT
DTSTART;TZID=Europe/London:20170315T160000
DTEND;TZID=Europe/London:20170315T190000
DTSTAMP:20260426T044655
CREATED:20170227T103516Z
LAST-MODIFIED:20170227T103516Z
UID:485-1489593600-1489604400@louisebensondance.co.uk
SUMMARY:Tap and Modern exam coaching
DESCRIPTION:Grade 2 mod 4pm-4.45pm \nGrade1 tap 4.45pm-5.30pm \nGrade 3 tap 5.30pm-6.15pm \nGrade 2 tap 6.15pm-7pm \n£5.50 per class
URL:https://louisebensondance.co.uk/event/tap-modern-exam-coaching-3/
LOCATION:Wickham Hall\, Sussex Road\, West Wickham\, BR4 0JX
END:VEVENT
BEGIN:VEVENT
DTSTART;TZID=Europe/London:20170308T160000
DTEND;TZID=Europe/London:20170308T190000
DTSTAMP:20260426T044655
CREATED:20170227T103315Z
LAST-MODIFIED:20170227T103315Z
UID:484-1488988800-1488999600@louisebensondance.co.uk
SUMMARY:Tap and Modern exam coaching
DESCRIPTION:Primary tap 4pm-4.45pm \nGrade 1 tap 4.45pm-5.30pm \nGrade 3 tap 5.30pm-6.15pm \nGrade 2 modern 6.15pm-7pm \nClasses are £5.50
URL:https://louisebensondance.co.uk/event/tap-modern-exam-coaching-2/
LOCATION:Wickham Hall\, Sussex Road\, West Wickham\, BR4 0JX
END:VEVENT
BEGIN:VEVENT
DTSTART;TZID=Europe/London:20170305T133000
DTEND;TZID=Europe/London:20170305T163000
DTSTAMP:20260426T044655
CREATED:20170227T103106Z
LAST-MODIFIED:20170227T103106Z
UID:483-1488720600-1488731400@louisebensondance.co.uk
SUMMARY:Tap and Modern exam coaching
DESCRIPTION:Grade 2 modern 1.30pm-2.15pm \nGrade 1 tap 2.15pm-3pm \nGrade 3 modern  3pm-3.45pm \nGrade 3 tap 3.45pm-4.30pm \n£5.50 per class
URL:https://louisebensondance.co.uk/event/tap-modern-exam-coaching/
LOCATION:West Wickham New Church\, 142 High Street\, West Wickham\, BR4 0LZ\, United Kingdom
END:VEVENT
BEGIN:VEVENT
DTSTART;VALUE=DATE:20170213
DTEND;VALUE=DATE:20170218
DTSTAMP:20260426T044655
CREATED:20170102T211950Z
LAST-MODIFIED:20170102T211950Z
UID:477-1486944000-1487375999@louisebensondance.co.uk
SUMMARY:Half term week
DESCRIPTION:
URL:https://louisebensondance.co.uk/event/half-term-week/
END:VEVENT
BEGIN:VEVENT
DTSTART;TZID=Europe/London:20170112T103000
DTEND;TZID=Europe/London:20170112T193000
DTSTAMP:20260426T044655
CREATED:20161219T110045Z
LAST-MODIFIED:20161219T110045Z
UID:475-1484217000-1484249400@louisebensondance.co.uk
SUMMARY:Spring term starts for all Thursday classes
DESCRIPTION:
URL:https://louisebensondance.co.uk/event/spring-term-starts-thursday-classes/
END:VEVENT
BEGIN:VEVENT
DTSTART;TZID=Europe/London:20170111T160000
DTEND;TZID=Europe/London:20170111T190000
DTSTAMP:20260426T044655
CREATED:20161219T105920Z
LAST-MODIFIED:20161219T105920Z
UID:474-1484150400-1484161200@louisebensondance.co.uk
SUMMARY:Spring term starts (please read further)
DESCRIPTION:Classes are held at Medhurst hall due to the panto at Wickham Halls \nThere is no singing on this day \nSenior jazz will finish at 7pm for this week only
URL:https://louisebensondance.co.uk/event/spring-term-starts-wednesday-classes-please-read/
LOCATION:Medhurst Hall\, Sussex Road\, BR4 0JX\, United Kingdom
END:VEVENT
BEGIN:VEVENT
DTSTART;TZID=Europe/London:20170110T153000
DTEND;TZID=Europe/London:20170110T164500
DTSTAMP:20260426T044655
CREATED:20161219T105456Z
LAST-MODIFIED:20170102T211819Z
UID:473-1484062200-1484066700@louisebensondance.co.uk
SUMMARY:Spring term starts at Highfield and West Wickham
DESCRIPTION:
URL:https://louisebensondance.co.uk/event/spring-term-starts-highfield/
LOCATION:Highfield Junior School\, South Hill Road\, Bromley\, BR2 0RL
END:VEVENT
BEGIN:VEVENT
DTSTART;TZID=Europe/London:20170109T160000
DTEND;TZID=Europe/London:20170109T193000
DTSTAMP:20260426T044655
CREATED:20160729T192426Z
LAST-MODIFIED:20161219T105402Z
UID:400-1483977600-1483990200@louisebensondance.co.uk
SUMMARY:Spring term Starts At West Wickham (no grade 3 Ballet)
DESCRIPTION:
URL:https://louisebensondance.co.uk/event/spring-term-starts-west-wickham/
LOCATION:West Wickham New Church\, 142 High Street\, West Wickham\, BR4 0LZ\, United Kingdom
END:VEVENT
END:VCALENDAR