BEGIN:VCALENDAR
VERSION:2.0
PRODID:-//Louise Benson School of Dance - ECPv6.15.16.1//NONSGML v1.0//EN
CALSCALE:GREGORIAN
METHOD:PUBLISH
X-WR-CALNAME:Louise Benson School of Dance
X-ORIGINAL-URL:https://louisebensondance.co.uk
X-WR-CALDESC:Events for Louise Benson School of Dance
REFRESH-INTERVAL;VALUE=DURATION:PT1H
X-Robots-Tag:noindex
X-PUBLISHED-TTL:PT1H
BEGIN:VTIMEZONE
TZID:Europe/London
BEGIN:DAYLIGHT
TZOFFSETFROM:+0000
TZOFFSETTO:+0100
TZNAME:BST
DTSTART:20150329T010000
END:DAYLIGHT
BEGIN:STANDARD
TZOFFSETFROM:+0100
TZOFFSETTO:+0000
TZNAME:GMT
DTSTART:20151025T010000
END:STANDARD
BEGIN:DAYLIGHT
TZOFFSETFROM:+0000
TZOFFSETTO:+0100
TZNAME:BST
DTSTART:20160327T010000
END:DAYLIGHT
BEGIN:STANDARD
TZOFFSETFROM:+0100
TZOFFSETTO:+0000
TZNAME:GMT
DTSTART:20161030T010000
END:STANDARD
BEGIN:DAYLIGHT
TZOFFSETFROM:+0000
TZOFFSETTO:+0100
TZNAME:BST
DTSTART:20170326T010000
END:DAYLIGHT
BEGIN:STANDARD
TZOFFSETFROM:+0100
TZOFFSETTO:+0000
TZNAME:GMT
DTSTART:20171029T010000
END:STANDARD
BEGIN:DAYLIGHT
TZOFFSETFROM:+0000
TZOFFSETTO:+0100
TZNAME:BST
DTSTART:20180325T010000
END:DAYLIGHT
BEGIN:STANDARD
TZOFFSETFROM:+0100
TZOFFSETTO:+0000
TZNAME:GMT
DTSTART:20181028T010000
END:STANDARD
END:VTIMEZONE
BEGIN:VEVENT
DTSTART;TZID=Europe/London:20170324T130000
DTEND;TZID=Europe/London:20170324T170000
DTSTAMP:20260426T043214
CREATED:20170227T104052Z
LAST-MODIFIED:20170227T104052Z
UID:488-1490360400-1490374800@louisebensondance.co.uk
SUMMARY:Tap and Modern exams
DESCRIPTION:From 1pm
URL:https://louisebensondance.co.uk/event/tap-modern-exams/
LOCATION:West Wickham New Church\, 142 High Street\, West Wickham\, BR4 0LZ\, United Kingdom
END:VEVENT
BEGIN:VEVENT
DTSTART;TZID=Europe/London:20170322T160000
DTEND;TZID=Europe/London:20170322T190000
DTSTAMP:20260426T043214
CREATED:20170227T103920Z
LAST-MODIFIED:20170227T103920Z
UID:487-1490198400-1490209200@louisebensondance.co.uk
SUMMARY:Tap and Modern exam coaching
DESCRIPTION:Grade 1 modern 4pm-4.45pm \nGrade 2 modern 4.45pm-5.30pm \nGrade 3 modern 5.30pm-6.15pm \nGrade 1 tap 6.15pm-7pm \n£5.50 per class
URL:https://louisebensondance.co.uk/event/tap-modern-exam-coaching-5/
LOCATION:Wickham Hall\, Sussex Road\, West Wickham\, BR4 0JX
END:VEVENT
BEGIN:VEVENT
DTSTART;VALUE=DATE:20170320
DTEND;VALUE=DATE:20170325
DTSTAMP:20260426T043214
CREATED:20170102T212247Z
LAST-MODIFIED:20170102T212247Z
UID:479-1489968000-1490399999@louisebensondance.co.uk
SUMMARY:End of term for St Christophers Classes
DESCRIPTION:
URL:https://louisebensondance.co.uk/event/end-term-st-christophers-classes/
END:VEVENT
BEGIN:VEVENT
DTSTART;TZID=Europe/London:20170319T133000
DTEND;TZID=Europe/London:20170319T163000
DTSTAMP:20260426T043214
CREATED:20170227T103723Z
LAST-MODIFIED:20170227T103723Z
UID:486-1489930200-1489941000@louisebensondance.co.uk
SUMMARY:Tap and Modern exam coaching
DESCRIPTION:Pre-Primary tap 1.30pm-2.15pm \nPrimary tap 2.15pm-3pm \nGrade 2 tap 3pm-3.45pm \nGrade 3 modern 3.45pm-4.30pm \n£5.50 per class
URL:https://louisebensondance.co.uk/event/tap-modern-exam-coaching-4/
LOCATION:West Wickham New Church\, 142 High Street\, West Wickham\, BR4 0LZ\, United Kingdom
END:VEVENT
BEGIN:VEVENT
DTSTART;TZID=Europe/London:20170315T160000
DTEND;TZID=Europe/London:20170315T190000
DTSTAMP:20260426T043214
CREATED:20170227T103516Z
LAST-MODIFIED:20170227T103516Z
UID:485-1489593600-1489604400@louisebensondance.co.uk
SUMMARY:Tap and Modern exam coaching
DESCRIPTION:Grade 2 mod 4pm-4.45pm \nGrade1 tap 4.45pm-5.30pm \nGrade 3 tap 5.30pm-6.15pm \nGrade 2 tap 6.15pm-7pm \n£5.50 per class
URL:https://louisebensondance.co.uk/event/tap-modern-exam-coaching-3/
LOCATION:Wickham Hall\, Sussex Road\, West Wickham\, BR4 0JX
END:VEVENT
BEGIN:VEVENT
DTSTART;TZID=Europe/London:20170308T160000
DTEND;TZID=Europe/London:20170308T190000
DTSTAMP:20260426T043214
CREATED:20170227T103315Z
LAST-MODIFIED:20170227T103315Z
UID:484-1488988800-1488999600@louisebensondance.co.uk
SUMMARY:Tap and Modern exam coaching
DESCRIPTION:Primary tap 4pm-4.45pm \nGrade 1 tap 4.45pm-5.30pm \nGrade 3 tap 5.30pm-6.15pm \nGrade 2 modern 6.15pm-7pm \nClasses are £5.50
URL:https://louisebensondance.co.uk/event/tap-modern-exam-coaching-2/
LOCATION:Wickham Hall\, Sussex Road\, West Wickham\, BR4 0JX
END:VEVENT
BEGIN:VEVENT
DTSTART;TZID=Europe/London:20170305T133000
DTEND;TZID=Europe/London:20170305T163000
DTSTAMP:20260426T043214
CREATED:20170227T103106Z
LAST-MODIFIED:20170227T103106Z
UID:483-1488720600-1488731400@louisebensondance.co.uk
SUMMARY:Tap and Modern exam coaching
DESCRIPTION:Grade 2 modern 1.30pm-2.15pm \nGrade 1 tap 2.15pm-3pm \nGrade 3 modern  3pm-3.45pm \nGrade 3 tap 3.45pm-4.30pm \n£5.50 per class
URL:https://louisebensondance.co.uk/event/tap-modern-exam-coaching/
LOCATION:West Wickham New Church\, 142 High Street\, West Wickham\, BR4 0LZ\, United Kingdom
END:VEVENT
BEGIN:VEVENT
DTSTART;VALUE=DATE:20170213
DTEND;VALUE=DATE:20170218
DTSTAMP:20260426T043214
CREATED:20170102T211950Z
LAST-MODIFIED:20170102T211950Z
UID:477-1486944000-1487375999@louisebensondance.co.uk
SUMMARY:Half term week
DESCRIPTION:
URL:https://louisebensondance.co.uk/event/half-term-week/
END:VEVENT
BEGIN:VEVENT
DTSTART;TZID=Europe/London:20170112T103000
DTEND;TZID=Europe/London:20170112T193000
DTSTAMP:20260426T043214
CREATED:20161219T110045Z
LAST-MODIFIED:20161219T110045Z
UID:475-1484217000-1484249400@louisebensondance.co.uk
SUMMARY:Spring term starts for all Thursday classes
DESCRIPTION:
URL:https://louisebensondance.co.uk/event/spring-term-starts-thursday-classes/
END:VEVENT
BEGIN:VEVENT
DTSTART;TZID=Europe/London:20170111T160000
DTEND;TZID=Europe/London:20170111T190000
DTSTAMP:20260426T043214
CREATED:20161219T105920Z
LAST-MODIFIED:20161219T105920Z
UID:474-1484150400-1484161200@louisebensondance.co.uk
SUMMARY:Spring term starts (please read further)
DESCRIPTION:Classes are held at Medhurst hall due to the panto at Wickham Halls \nThere is no singing on this day \nSenior jazz will finish at 7pm for this week only
URL:https://louisebensondance.co.uk/event/spring-term-starts-wednesday-classes-please-read/
LOCATION:Medhurst Hall\, Sussex Road\, BR4 0JX\, United Kingdom
END:VEVENT
BEGIN:VEVENT
DTSTART;TZID=Europe/London:20170110T153000
DTEND;TZID=Europe/London:20170110T164500
DTSTAMP:20260426T043214
CREATED:20161219T105456Z
LAST-MODIFIED:20170102T211819Z
UID:473-1484062200-1484066700@louisebensondance.co.uk
SUMMARY:Spring term starts at Highfield and West Wickham
DESCRIPTION:
URL:https://louisebensondance.co.uk/event/spring-term-starts-highfield/
LOCATION:Highfield Junior School\, South Hill Road\, Bromley\, BR2 0RL
END:VEVENT
BEGIN:VEVENT
DTSTART;TZID=Europe/London:20170109T160000
DTEND;TZID=Europe/London:20170109T193000
DTSTAMP:20260426T043214
CREATED:20160729T192426Z
LAST-MODIFIED:20161219T105402Z
UID:400-1483977600-1483990200@louisebensondance.co.uk
SUMMARY:Spring term Starts At West Wickham (no grade 3 Ballet)
DESCRIPTION:
URL:https://louisebensondance.co.uk/event/spring-term-starts-west-wickham/
LOCATION:West Wickham New Church\, 142 High Street\, West Wickham\, BR4 0LZ\, United Kingdom
END:VEVENT
BEGIN:VEVENT
DTSTART;VALUE=DATE:20170109
DTEND;VALUE=DATE:20170114
DTSTAMP:20260426T043214
CREATED:20170102T212415Z
LAST-MODIFIED:20170102T212415Z
UID:480-1483920000-1484351999@louisebensondance.co.uk
SUMMARY:Spring term starts for St Christophers Classes
DESCRIPTION:
URL:https://louisebensondance.co.uk/event/spring-term-starts-st-christophers-classes/
LOCATION:St Christopher’s The Hall School\, 49 Bromley Road \, Beckenham \, BR3 5PA\, United Kingdom
END:VEVENT
BEGIN:VEVENT
DTSTART;TZID=Europe/London:20161219T163000
DTEND;TZID=Europe/London:20161219T183000
DTSTAMP:20260426T043214
CREATED:20161219T104853Z
LAST-MODIFIED:20161219T104940Z
UID:471-1482165000-1482172200@louisebensondance.co.uk
SUMMARY:Christmas Party!
DESCRIPTION:Come along and celebrate with us at Wickham halls 4.30pm-6.30pm £6 per child
URL:https://louisebensondance.co.uk/event/christmas-party/
LOCATION:Wickham Hall\, Sussex Road\, West Wickham\, BR4 0JX
END:VEVENT
BEGIN:VEVENT
DTSTART;VALUE=DATE:20161215
DTEND;VALUE=DATE:20161216
DTSTAMP:20260426T043214
CREATED:20161025T210147Z
LAST-MODIFIED:20161025T210147Z
UID:466-1481760000-1481846399@louisebensondance.co.uk
SUMMARY:End of Term
DESCRIPTION:
URL:https://louisebensondance.co.uk/event/end-term-3/
END:VEVENT
BEGIN:VEVENT
DTSTART;TZID=Europe/London:20161214T160000
DTEND;TZID=Europe/London:20161214T190000
DTSTAMP:20260426T043214
CREATED:20160705T131445Z
LAST-MODIFIED:20160705T131445Z
UID:363-1481731200-1481742000@louisebensondance.co.uk
SUMMARY:End Of Term
DESCRIPTION:This is the end of term for classes held on this day.
URL:https://louisebensondance.co.uk/event/end-term-2/
LOCATION:Wickham Hall\, Sussex Road\, West Wickham\, BR4 0JX
END:VEVENT
BEGIN:VEVENT
DTSTART;TZID=Europe/London:20161214T154000
DTEND;TZID=Europe/London:20161214T174000
DTSTAMP:20260426T043214
CREATED:20160729T191133Z
LAST-MODIFIED:20160729T191133Z
UID:392-1481730000-1481737200@louisebensondance.co.uk
SUMMARY:End of Term at St Olaves and Watch Week
DESCRIPTION:
URL:https://louisebensondance.co.uk/event/end-term-st-olaves/
LOCATION:St Olaves School\, Southwood Road \, SE9 3QS\, United Kingdom
END:VEVENT
BEGIN:VEVENT
DTSTART;TZID=Europe/London:20161213T164500
DTEND;TZID=Europe/London:20161213T191500
DTSTAMP:20260426T043214
CREATED:20160705T131347Z
LAST-MODIFIED:20160705T131347Z
UID:362-1481647500-1481656500@louisebensondance.co.uk
SUMMARY:End Of Term
DESCRIPTION:This is the end of term for classes held on this day.
URL:https://louisebensondance.co.uk/event/end-of-term/
LOCATION:West Wickham New Church\, 142 High Street\, West Wickham\, BR4 0LZ\, United Kingdom
END:VEVENT
BEGIN:VEVENT
DTSTART;TZID=Europe/London:20161213T153000
DTEND;TZID=Europe/London:20161213T164500
DTSTAMP:20260426T043214
CREATED:20160912T100342Z
LAST-MODIFIED:20160912T100342Z
UID:463-1481643000-1481647500@louisebensondance.co.uk
SUMMARY:End of term at Highfield
DESCRIPTION:This is the last class of term and watch week for the Highfield class
URL:https://louisebensondance.co.uk/event/end-term-highfield/
LOCATION:Highfield Junior School\, South Hill Road\, Bromley\, BR2 0RL
END:VEVENT
BEGIN:VEVENT
DTSTART;TZID=Europe/London:20161212T160000
DTEND;TZID=Europe/London:20161212T181500
DTSTAMP:20260426T043214
CREATED:20160729T191424Z
LAST-MODIFIED:20160729T191424Z
UID:393-1481558400-1481566500@louisebensondance.co.uk
SUMMARY:End Of Term
DESCRIPTION:This is the end of term for classes on this day.
URL:https://louisebensondance.co.uk/event/end-term-2-2/
LOCATION:West Wickham New Church\, 142 High Street\, West Wickham\, BR4 0LZ\, United Kingdom
END:VEVENT
BEGIN:VEVENT
DTSTART;TZID=Europe/London:20161207T164000
DTEND;TZID=Europe/London:20161207T174000
DTSTAMP:20260426T043214
CREATED:20160729T190948Z
LAST-MODIFIED:20160729T190948Z
UID:391-1481128800-1481132400@louisebensondance.co.uk
SUMMARY:No Jazz Class at St Olaves
DESCRIPTION:
URL:https://louisebensondance.co.uk/event/no-jazz-class-st-olaves/
LOCATION:St Olaves School\, Southwood Road \, SE9 3QS\, United Kingdom
END:VEVENT
BEGIN:VEVENT
DTSTART;TZID=Europe/London:20161202T125000
DTEND;TZID=Europe/London:20161202T135000
DTSTAMP:20260426T043214
CREATED:20160729T192214Z
LAST-MODIFIED:20160729T192214Z
UID:399-1480683000-1480686600@louisebensondance.co.uk
SUMMARY:End Of Term At St Christophers
DESCRIPTION:
URL:https://louisebensondance.co.uk/event/end-term-st-christophers-6/
LOCATION:St Christopher’s The Hall School\, 49 Bromley Road \, Beckenham \, BR3 5PA\, United Kingdom
END:VEVENT
BEGIN:VEVENT
DTSTART;TZID=Europe/London:20161201T160000
DTEND;TZID=Europe/London:20161201T190000
DTSTAMP:20260426T043214
CREATED:20160705T125545Z
LAST-MODIFIED:20161025T205854Z
UID:352-1480608000-1480618800@louisebensondance.co.uk
SUMMARY:Prize Giving Performance
DESCRIPTION:This is our annual Prize Giving performance\, held at Wickham halls\, all children will be involved. \n 
URL:https://louisebensondance.co.uk/event/prize-giving-performance/
LOCATION:Wickham Hall\, Sussex Road\, West Wickham\, BR4 0JX
END:VEVENT
BEGIN:VEVENT
DTSTART;TZID=Europe/London:20161201T125000
DTEND;TZID=Europe/London:20161201T135000
DTSTAMP:20260426T043214
CREATED:20160729T192012Z
LAST-MODIFIED:20160729T192012Z
UID:397-1480596600-1480600200@louisebensondance.co.uk
SUMMARY:End Of Term At St Christophers
DESCRIPTION:
URL:https://louisebensondance.co.uk/event/end-term-st-christophers-4/
LOCATION:St Christopher’s The Hall School\, 49 Bromley Road \, Beckenham \, BR3 5PA\, United Kingdom
END:VEVENT
BEGIN:VEVENT
DTSTART;TZID=Europe/London:20161130T125000
DTEND;TZID=Europe/London:20161130T135000
DTSTAMP:20260426T043214
CREATED:20160729T191910Z
LAST-MODIFIED:20160729T191910Z
UID:396-1480510200-1480513800@louisebensondance.co.uk
SUMMARY:End Of Term At St Christophers
DESCRIPTION:
URL:https://louisebensondance.co.uk/event/end-term-st-christophers-3/
LOCATION:St Christopher’s The Hall School\, 49 Bromley Road \, Beckenham \, BR3 5PA\, United Kingdom
END:VEVENT
BEGIN:VEVENT
DTSTART;TZID=Europe/London:20161129T125000
DTEND;TZID=Europe/London:20161129T135000
DTSTAMP:20260426T043214
CREATED:20160729T191811Z
LAST-MODIFIED:20160729T191811Z
UID:395-1480423800-1480427400@louisebensondance.co.uk
SUMMARY:End Of Term At St Christophers
DESCRIPTION:
URL:https://louisebensondance.co.uk/event/end-term-st-christophers-2/
LOCATION:St Christopher’s The Hall School\, 49 Bromley Road \, Beckenham \, BR3 5PA\, United Kingdom
END:VEVENT
BEGIN:VEVENT
DTSTART;TZID=Europe/London:20161128T160000
DTEND;TZID=Europe/London:20161128T183000
DTSTAMP:20260426T043214
CREATED:20160705T125656Z
LAST-MODIFIED:20161025T205950Z
UID:353-1480348800-1480357800@louisebensondance.co.uk
SUMMARY:Prize Giving Rehearsal
DESCRIPTION:Our Prize giving rehearsal\, for all children involved in Prize Giving.
URL:https://louisebensondance.co.uk/event/prize-giving-rehearsal/
LOCATION:Wickham Hall\, Sussex Road\, West Wickham\, BR4 0JX
END:VEVENT
BEGIN:VEVENT
DTSTART;TZID=Europe/London:20161128T125000
DTEND;TZID=Europe/London:20161128T135000
DTSTAMP:20260426T043214
CREATED:20160729T191705Z
LAST-MODIFIED:20160729T191705Z
UID:394-1480337400-1480341000@louisebensondance.co.uk
SUMMARY:End Of Term At St Christophers
DESCRIPTION:
URL:https://louisebensondance.co.uk/event/end-term-st-christophers/
LOCATION:St Christopher’s The Hall School\, 49 Bromley Road \, Beckenham \, BR3 5PA\, United Kingdom
END:VEVENT
BEGIN:VEVENT
DTSTART;TZID=Europe/London:20161116T034000
DTEND;TZID=Europe/London:20161116T174000
DTSTAMP:20260426T043214
CREATED:20160729T190831Z
LAST-MODIFIED:20160729T190831Z
UID:390-1479267600-1479318000@louisebensondance.co.uk
SUMMARY:No Classes at St Olaves
DESCRIPTION:
URL:https://louisebensondance.co.uk/event/no-classes-st-olaves/
LOCATION:St Olaves School\, Southwood Road \, SE9 3QS\, United Kingdom
END:VEVENT
BEGIN:VEVENT
DTSTART;TZID=Europe/London:20161102T154000
DTEND;TZID=Europe/London:20161102T174000
DTSTAMP:20260426T043214
CREATED:20160729T190318Z
LAST-MODIFIED:20160729T190543Z
UID:388-1478101200-1478108400@louisebensondance.co.uk
SUMMARY:Half Term Week at St Olaves
DESCRIPTION:
URL:https://louisebensondance.co.uk/event/half-term-week-st-christophers-4/
LOCATION:St Olaves School\, Southwood Road \, SE9 3QS\, United Kingdom
END:VEVENT
END:VCALENDAR