BEGIN:VCALENDAR
VERSION:2.0
PRODID:-//Louise Benson School of Dance - ECPv6.15.16.1//NONSGML v1.0//EN
CALSCALE:GREGORIAN
METHOD:PUBLISH
X-WR-CALNAME:Louise Benson School of Dance
X-ORIGINAL-URL:https://louisebensondance.co.uk
X-WR-CALDESC:Events for Louise Benson School of Dance
REFRESH-INTERVAL;VALUE=DURATION:PT1H
X-Robots-Tag:noindex
X-PUBLISHED-TTL:PT1H
BEGIN:VTIMEZONE
TZID:Europe/London
BEGIN:DAYLIGHT
TZOFFSETFROM:+0000
TZOFFSETTO:+0100
TZNAME:BST
DTSTART:20150329T010000
END:DAYLIGHT
BEGIN:STANDARD
TZOFFSETFROM:+0100
TZOFFSETTO:+0000
TZNAME:GMT
DTSTART:20151025T010000
END:STANDARD
BEGIN:DAYLIGHT
TZOFFSETFROM:+0000
TZOFFSETTO:+0100
TZNAME:BST
DTSTART:20160327T010000
END:DAYLIGHT
BEGIN:STANDARD
TZOFFSETFROM:+0100
TZOFFSETTO:+0000
TZNAME:GMT
DTSTART:20161030T010000
END:STANDARD
BEGIN:DAYLIGHT
TZOFFSETFROM:+0000
TZOFFSETTO:+0100
TZNAME:BST
DTSTART:20170326T010000
END:DAYLIGHT
BEGIN:STANDARD
TZOFFSETFROM:+0100
TZOFFSETTO:+0000
TZNAME:GMT
DTSTART:20171029T010000
END:STANDARD
END:VTIMEZONE
BEGIN:VEVENT
DTSTART;TZID=Europe/London:20161101T153000
DTEND;TZID=Europe/London:20161101T164500
DTSTAMP:20260426T022921
CREATED:20160912T100014Z
LAST-MODIFIED:20160912T100137Z
UID:462-1478014200-1478018700@louisebensondance.co.uk
SUMMARY:No class at Highfield
DESCRIPTION:This is due to parents evening at the school.
URL:https://louisebensondance.co.uk/event/no-class-highfield/
LOCATION:Highfield Junior School\, South Hill Road\, Bromley\, BR2 0RL
END:VEVENT
BEGIN:VEVENT
DTSTART;VALUE=DATE:20161024
DTEND;VALUE=DATE:20161029
DTSTAMP:20260426T022921
CREATED:20160705T131111Z
LAST-MODIFIED:20160705T131111Z
UID:361-1477267200-1477699199@louisebensondance.co.uk
SUMMARY:Half Term Week For All Classes
DESCRIPTION:
URL:https://louisebensondance.co.uk/event/half-term-week-classes-3/
END:VEVENT
BEGIN:VEVENT
DTSTART;TZID=Europe/London:20161021T125000
DTEND;TZID=Europe/London:20161021T135000
DTSTAMP:20260426T022921
CREATED:20160729T190231Z
LAST-MODIFIED:20160729T190231Z
UID:387-1477054200-1477057800@louisebensondance.co.uk
SUMMARY:Half Term Week at St Christophers
DESCRIPTION:
URL:https://louisebensondance.co.uk/event/half-term-week-st-christophers-3/
LOCATION:St Christopher’s The Hall School\, 49 Bromley Road \, Beckenham \, BR3 5PA\, United Kingdom
END:VEVENT
BEGIN:VEVENT
DTSTART;TZID=Europe/London:20161020T125000
DTEND;TZID=Europe/London:20161020T135000
DTSTAMP:20260426T022921
CREATED:20160810T133140Z
LAST-MODIFIED:20160810T133201Z
UID:409-1476967800-1476971400@louisebensondance.co.uk
SUMMARY:Half Term Week at St Christophers
DESCRIPTION:
URL:https://louisebensondance.co.uk/event/half-term-week-st-christophers-5/
LOCATION:St Christopher’s The Hall School\, 49 Bromley Road \, Beckenham \, BR3 5PA\, United Kingdom
END:VEVENT
BEGIN:VEVENT
DTSTART;TZID=Europe/London:20161019T125000
DTEND;TZID=Europe/London:20161019T135000
DTSTAMP:20260426T022921
CREATED:20160729T185750Z
LAST-MODIFIED:20160729T190036Z
UID:386-1476881400-1476885000@louisebensondance.co.uk
SUMMARY:Half Term Week at St Christophers
DESCRIPTION:
URL:https://louisebensondance.co.uk/event/half-term-week-st-christophers-2/
LOCATION:St Christopher’s The Hall School\, 49 Bromley Road \, Beckenham \, BR3 5PA\, United Kingdom
END:VEVENT
BEGIN:VEVENT
DTSTART;TZID=Europe/London:20161018T125000
DTEND;TZID=Europe/London:20161018T135000
DTSTAMP:20260426T022921
CREATED:20160729T185703Z
LAST-MODIFIED:20160729T185703Z
UID:385-1476795000-1476798600@louisebensondance.co.uk
SUMMARY:Half Term Week at St Christophers
DESCRIPTION:
URL:https://louisebensondance.co.uk/event/half-term-week-st-christophers/
LOCATION:St Christopher’s The Hall School\, 49 Bromley Road \, Beckenham \, BR3 5PA\, United Kingdom
END:VEVENT
BEGIN:VEVENT
DTSTART;TZID=Europe/London:20161017T125000
DTEND;TZID=Europe/London:20161017T135000
DTSTAMP:20260426T022921
CREATED:20160729T185311Z
LAST-MODIFIED:20160729T185552Z
UID:383-1476708600-1476712200@louisebensondance.co.uk
SUMMARY:Half Term Week at St Christophers
DESCRIPTION:
URL:https://louisebensondance.co.uk/event/autumn-term-starts-st-olaves/
LOCATION:St Christopher’s The Hall School\, 49 Bromley Road \, Beckenham \, BR3 5PA\, United Kingdom
END:VEVENT
BEGIN:VEVENT
DTSTART;TZID=Europe/London:20160920T153000
DTEND;TZID=Europe/London:20160920T164500
DTSTAMP:20260426T022921
CREATED:20160729T144631Z
LAST-MODIFIED:20160729T185135Z
UID:381-1474385400-1474389900@louisebensondance.co.uk
SUMMARY:Autumn Term Starts At Highfield Junior School
DESCRIPTION:
URL:https://louisebensondance.co.uk/event/autumn-term-starts-st-christophers-5/
LOCATION:Highfield Junior School\, South Hill Road\, Bromley\, BR2 0RL
END:VEVENT
BEGIN:VEVENT
DTSTART;TZID=Europe/London:20160916T125000
DTEND;TZID=Europe/London:20160916T135000
DTSTAMP:20260426T022921
CREATED:20160810T133026Z
LAST-MODIFIED:20160810T133026Z
UID:408-1474030200-1474033800@louisebensondance.co.uk
SUMMARY:Autumn Term Starts at St Christophers
DESCRIPTION:
URL:https://louisebensondance.co.uk/event/autumn-term-starts-st-christophers-6/
LOCATION:St Christopher’s The Hall School\, 49 Bromley Road \, Beckenham \, BR3 5PA\, United Kingdom
END:VEVENT
BEGIN:VEVENT
DTSTART;TZID=Europe/London:20160915T125000
DTEND;TZID=Europe/London:20160915T135000
DTSTAMP:20260426T022921
CREATED:20160729T144546Z
LAST-MODIFIED:20160729T144546Z
UID:380-1473943800-1473947400@louisebensondance.co.uk
SUMMARY:Autumn Term Starts At St Christophers
DESCRIPTION:
URL:https://louisebensondance.co.uk/event/autumn-term-starts-st-christophers-4/
LOCATION:St Christopher’s The Hall School\, 49 Bromley Road \, Beckenham \, BR3 5PA\, United Kingdom
END:VEVENT
BEGIN:VEVENT
DTSTART;TZID=Europe/London:20160915T103000
DTEND;TZID=Europe/London:20160915T193000
DTSTAMP:20260426T022921
CREATED:20160705T131010Z
LAST-MODIFIED:20160705T131010Z
UID:360-1473935400-1473967800@louisebensondance.co.uk
SUMMARY:Autumn Term Starts at West Wickham
DESCRIPTION:
URL:https://louisebensondance.co.uk/event/autumn-term-starts-west-wickham-3/
LOCATION:West Wickham New Church\, 142 High Street\, West Wickham\, BR4 0LZ\, United Kingdom
END:VEVENT
BEGIN:VEVENT
DTSTART;TZID=Europe/London:20160914T160000
DTEND;TZID=Europe/London:20160914T190000
DTSTAMP:20260426T022921
CREATED:20160705T130837Z
LAST-MODIFIED:20160705T130837Z
UID:359-1473868800-1473879600@louisebensondance.co.uk
SUMMARY:Autumn Term Starts at West Wickham
DESCRIPTION:
URL:https://louisebensondance.co.uk/event/autumn-term-starts-west-wickham-2/
LOCATION:Wickham Hall\, Sussex Road\, West Wickham\, BR4 0JX
END:VEVENT
BEGIN:VEVENT
DTSTART;TZID=Europe/London:20160914T125000
DTEND;TZID=Europe/London:20160914T135000
DTSTAMP:20260426T022921
CREATED:20160729T144452Z
LAST-MODIFIED:20160729T144452Z
UID:379-1473857400-1473861000@louisebensondance.co.uk
SUMMARY:Autumn Term Starts At St Christophers
DESCRIPTION:
URL:https://louisebensondance.co.uk/event/autumn-term-starts-st-christophers-3/
LOCATION:St Christopher’s The Hall School\, 49 Bromley Road \, Beckenham \, BR3 5PA\, United Kingdom
END:VEVENT
BEGIN:VEVENT
DTSTART;TZID=Europe/London:20160913T125000
DTEND;TZID=Europe/London:20160913T135000
DTSTAMP:20260426T022921
CREATED:20160729T144401Z
LAST-MODIFIED:20160729T144401Z
UID:378-1473771000-1473774600@louisebensondance.co.uk
SUMMARY:Autumn Term Starts At St Christophers
DESCRIPTION:
URL:https://louisebensondance.co.uk/event/autumn-term-starts-st-christophers-2/
LOCATION:St Christopher’s The Hall School\, 49 Bromley Road \, Beckenham \, BR3 5PA\, United Kingdom
END:VEVENT
BEGIN:VEVENT
DTSTART;TZID=Europe/London:20160912T160000
DTEND;TZID=Europe/London:20160913T193000
DTSTAMP:20260426T022921
CREATED:20160705T130714Z
LAST-MODIFIED:20160705T130749Z
UID:358-1473696000-1473795000@louisebensondance.co.uk
SUMMARY:Autumn Term Starts at West Wickham
DESCRIPTION:
URL:https://louisebensondance.co.uk/event/autumn-term-starts-west-wickham/
LOCATION:West Wickham New Church\, 142 High Street\, West Wickham\, BR4 0LZ\, United Kingdom
END:VEVENT
BEGIN:VEVENT
DTSTART;TZID=Europe/London:20160912T125000
DTEND;TZID=Europe/London:20160912T135000
DTSTAMP:20260426T022921
CREATED:20160729T144254Z
LAST-MODIFIED:20160729T144254Z
UID:377-1473684600-1473688200@louisebensondance.co.uk
SUMMARY:Autumn Term Starts At St Christophers
DESCRIPTION:
URL:https://louisebensondance.co.uk/event/autumn-term-starts-st-christophers/
LOCATION:St Christopher’s The Hall School\, 49 Bromley Road \, Beckenham \, BR3 5PA\, United Kingdom
END:VEVENT
BEGIN:VEVENT
DTSTART;TZID=Europe/London:20160801T100000
DTEND;TZID=Europe/London:20160805T150000
DTSTAMP:20260426T022921
CREATED:20151030T154344Z
LAST-MODIFIED:20160404T214050Z
UID:266-1470045600-1470409200@louisebensondance.co.uk
SUMMARY:Summer School
DESCRIPTION:For girls and boys aged 5 to teens: \nJoin us for a fun packed week of Singing\, Dancing and Acting with an informal presentation for friends and family on the last day in full costume. \nThe cost is just £110 per child. \nPlease contact us for further details or to secure a place.
URL:https://louisebensondance.co.uk/event/summer-school-2/
LOCATION:Highfield Infants School\, Highfield Drive  \, Bromley  Kent  \, BR2 0RX\, United Kingdom
END:VEVENT
BEGIN:VEVENT
DTSTART;TZID=Europe/London:20160729T125000
DTEND;TZID=Europe/London:20160729T135000
DTSTAMP:20260426T022921
CREATED:20160729T192054Z
LAST-MODIFIED:20160729T192054Z
UID:398-1469796600-1469800200@louisebensondance.co.uk
SUMMARY:End Of Term At St Christophers
DESCRIPTION:
URL:https://louisebensondance.co.uk/event/end-term-st-christophers-5/
LOCATION:St Christopher’s The Hall School\, 49 Bromley Road \, Beckenham \, BR3 5PA\, United Kingdom
END:VEVENT
BEGIN:VEVENT
DTSTART;VALUE=DATE:20160716
DTEND;VALUE=DATE:20160717
DTSTAMP:20260426T022921
CREATED:20160314T085954Z
LAST-MODIFIED:20160314T085954Z
UID:323-1468627200-1468713599@louisebensondance.co.uk
SUMMARY:Ballet Class Exams
DESCRIPTION:Ballet class exams for selected pupils in Primary to Grade 3
URL:https://louisebensondance.co.uk/event/ballet-class-exams/
LOCATION:West Wickham New Church\, 142 High Street\, West Wickham\, BR4 0LZ\, United Kingdom
END:VEVENT
BEGIN:VEVENT
DTSTART;TZID=Europe/London:20160715T160000
DTEND;TZID=Europe/London:20160715T190000
DTSTAMP:20260426T022921
CREATED:20160624T213743Z
LAST-MODIFIED:20160624T213743Z
UID:350-1468598400-1468609200@louisebensondance.co.uk
SUMMARY:Extra Ballet Coaching
DESCRIPTION:4pm-4.45pm Primarys \n4.45pm-5.30pm Standard 1s \n5.30pm-6.15pm Standard 2s \n6.15pm-7pm Standard 3s
URL:https://louisebensondance.co.uk/event/extra-ballet-coaching-3/
LOCATION:West Wickham New Church\, 142 High Street\, West Wickham\, BR4 0LZ\, United Kingdom
END:VEVENT
BEGIN:VEVENT
DTSTART;TZID=Europe/London:20160714T140000
DTEND;TZID=Europe/London:20160714T173000
DTSTAMP:20260426T022921
CREATED:20160705T130529Z
LAST-MODIFIED:20160705T130529Z
UID:357-1468504800-1468517400@louisebensondance.co.uk
SUMMARY:End Of Term For All Classes
DESCRIPTION:Please come along and watch the following classes on this day: \nLittle Lovelies- 2pm-2.45pm \nLittle Lovelies- 3.45pm-4.30pm \nPre-Primary Tap and Ballet – 4.30pm-5.30pm
URL:https://louisebensondance.co.uk/event/end-term-classes-2-3/
LOCATION:West Wickham New Church\, 142 High Street\, West Wickham\, BR4 0LZ\, United Kingdom
END:VEVENT
BEGIN:VEVENT
DTSTART;TZID=Europe/London:20160713T160000
DTEND;TZID=Europe/London:20160713T190000
DTSTAMP:20260426T022921
CREATED:20160705T130335Z
LAST-MODIFIED:20160705T130335Z
UID:356-1468425600-1468436400@louisebensondance.co.uk
SUMMARY:End Of Term For All Classes
DESCRIPTION:Please feel free to come along and watch all the classes held on this day.
URL:https://louisebensondance.co.uk/event/end-term-classes-2-2/
LOCATION:Wickham Hall\, Sussex Road\, West Wickham\, BR4 0JX
END:VEVENT
BEGIN:VEVENT
DTSTART;TZID=Europe/London:20160712T164500
DTEND;TZID=Europe/London:20160712T191500
DTSTAMP:20260426T022921
CREATED:20160705T130218Z
LAST-MODIFIED:20160705T130218Z
UID:355-1468341900-1468350900@louisebensondance.co.uk
SUMMARY:End Of Term For All Classes
DESCRIPTION:This is also watch week\, please feel free to come along and watch our class.
URL:https://louisebensondance.co.uk/event/end-term-classes-2/
LOCATION:West Wickham New Church\, 142 High Street\, West Wickham\, BR4 0LZ\, United Kingdom
END:VEVENT
BEGIN:VEVENT
DTSTART;TZID=Europe/London:20160711T160000
DTEND;TZID=Europe/London:20160711T173000
DTSTAMP:20260426T022921
CREATED:20151227T212003Z
LAST-MODIFIED:20160705T130101Z
UID:301-1468252800-1468258200@louisebensondance.co.uk
SUMMARY:End of Term for All Classes
DESCRIPTION:This is also watch week for the following classes that are held on this day: \nGrade 1 Modern 4pm-4.45pm \nGrade 2 Modern 4.45pm-5.30pm
URL:https://louisebensondance.co.uk/event/end-of-term-for-all-classes/
LOCATION:West Wickham New Church\, 142 High Street\, West Wickham\, BR4 0LZ\, United Kingdom
END:VEVENT
BEGIN:VEVENT
DTSTART;TZID=Europe/London:20160709T133000
DTEND;TZID=Europe/London:20160709T140000
DTSTAMP:20260426T022921
CREATED:20160624T213246Z
LAST-MODIFIED:20160624T213246Z
UID:347-1468071000-1468072800@louisebensondance.co.uk
SUMMARY:Highfield School Summer Fair
DESCRIPTION:The children will be performing at 1.3opm.
URL:https://louisebensondance.co.uk/event/highfield-school-summer-fair/
LOCATION:Highfield Junior School\, South Hill Road\, Bromley\, BR2 0RL
END:VEVENT
BEGIN:VEVENT
DTSTART;TZID=Europe/London:20160708T160000
DTEND;TZID=Europe/London:20160708T190000
DTSTAMP:20260426T022921
CREATED:20160624T213627Z
LAST-MODIFIED:20160624T213627Z
UID:349-1467993600-1468004400@louisebensondance.co.uk
SUMMARY:Extra Ballet Coaching
DESCRIPTION:4pm-4.45pm Primarys \n4.45pm-5.30pm Standard 1s \n5.30pm-6.15pm Standard 2s \n6.15pm-7pm Standard 3s
URL:https://louisebensondance.co.uk/event/extra-ballet-coaching-2/
LOCATION:West Wickham New Church\, 142 High Street\, West Wickham\, BR4 0LZ\, United Kingdom
END:VEVENT
BEGIN:VEVENT
DTSTART;TZID=Europe/London:20160706T160000
DTEND;TZID=Europe/London:20160706T190000
DTSTAMP:20260426T022921
CREATED:20160624T213516Z
LAST-MODIFIED:20160624T213516Z
UID:348-1467820800-1467831600@louisebensondance.co.uk
SUMMARY:Extra Ballet Coaching
DESCRIPTION:4pm-4.45pm Primarys \n4.45pm-5.30pm Standard 1s \n5.30pm-6.15pm Standard 2s \n6.15pm-7pm Standard 3s
URL:https://louisebensondance.co.uk/event/extra-ballet-coaching/
LOCATION:Wickham Hall\, Sussex Road\, West Wickham\, BR4 0JX
END:VEVENT
BEGIN:VEVENT
DTSTART;TZID=Europe/London:20160705T153000
DTEND;TZID=Europe/London:20160705T164500
DTSTAMP:20260426T022921
CREATED:20160314T142007Z
LAST-MODIFIED:20160314T142007Z
UID:325-1467732600-1467737100@louisebensondance.co.uk
SUMMARY:Last Class at Highfield Junior School
DESCRIPTION:This is watch week! Please come and watch your childs class for as long or as little as you can make it.
URL:https://louisebensondance.co.uk/event/last-class-at-highfield-junior-school/
LOCATION:Highfield Junior School\, South Hill Road\, Bromley\, BR2 0RL
END:VEVENT
BEGIN:VEVENT
DTSTART;TZID=Europe/London:20160625T143000
DTEND;TZID=Europe/London:20160625T153000
DTSTAMP:20260426T022921
CREATED:20160624T213129Z
LAST-MODIFIED:20160624T213129Z
UID:346-1466865000-1466868600@louisebensondance.co.uk
SUMMARY:St Christophers Summer Fair
DESCRIPTION:Starts at 3pm\, children are called at 2.30pm
URL:https://louisebensondance.co.uk/event/st-christophers-summer-fair/
LOCATION:St Christopher’s The Hall School\, 49 Bromley Road \, Beckenham \, BR3 5PA\, United Kingdom
END:VEVENT
BEGIN:VEVENT
DTSTART;VALUE=DATE:20160611
DTEND;VALUE=DATE:20160612
DTSTAMP:20260426T022921
CREATED:20150827T144903Z
LAST-MODIFIED:20160503T143556Z
UID:242-1465603200-1465689599@louisebensondance.co.uk
SUMMARY:Show Day!
DESCRIPTION:Show day!\nThe Barn Theatre\n25 Bluehouse Lane\nOxted\nRH8 0AA \nLittle Lovelies: 2pm\nPre-Primaries: 2pm\nHighfield Children: 2pm \nAll other children are called in at 1.30pm\n\nCome show ready with hair and make up done. We cannot do it for you on the day.\nDo not forget all of your clean dance shoes/tights and your costume bag with your costumes.\nCostumes will be left with us at the end of the performance but you will be taking your costume bags and hangers home.\nNo food but please bring water\nParents are not allowed backstage\, we have licensed chaperones who will be looking after the children at all times from drop off to pick up.\nIf your child does not come with their hair and make up done they will not be allowed to perform\, also if you forget any dance shoes or costumes we do not have spares so they will not be able to perform.\n\n\nDO NOT BE LATE AS OTHERWISE YOUR CHILD WILL MISS THE SHOW.\nWe will all be out of the Theatre by 5pm at the very latest.
URL:https://louisebensondance.co.uk/event/show-day/
END:VEVENT
END:VCALENDAR