BEGIN:VCALENDAR
VERSION:2.0
PRODID:-//Louise Benson School of Dance - ECPv6.15.16.1//NONSGML v1.0//EN
CALSCALE:GREGORIAN
METHOD:PUBLISH
X-WR-CALNAME:Louise Benson School of Dance
X-ORIGINAL-URL:https://louisebensondance.co.uk
X-WR-CALDESC:Events for Louise Benson School of Dance
REFRESH-INTERVAL;VALUE=DURATION:PT1H
X-Robots-Tag:noindex
X-PUBLISHED-TTL:PT1H
BEGIN:VTIMEZONE
TZID:Europe/London
BEGIN:DAYLIGHT
TZOFFSETFROM:+0000
TZOFFSETTO:+0100
TZNAME:BST
DTSTART:20200329T010000
END:DAYLIGHT
BEGIN:STANDARD
TZOFFSETFROM:+0100
TZOFFSETTO:+0000
TZNAME:GMT
DTSTART:20201025T010000
END:STANDARD
BEGIN:DAYLIGHT
TZOFFSETFROM:+0000
TZOFFSETTO:+0100
TZNAME:BST
DTSTART:20210328T010000
END:DAYLIGHT
BEGIN:STANDARD
TZOFFSETFROM:+0100
TZOFFSETTO:+0000
TZNAME:GMT
DTSTART:20211031T010000
END:STANDARD
BEGIN:DAYLIGHT
TZOFFSETFROM:+0000
TZOFFSETTO:+0100
TZNAME:BST
DTSTART:20220327T010000
END:DAYLIGHT
BEGIN:STANDARD
TZOFFSETFROM:+0100
TZOFFSETTO:+0000
TZNAME:GMT
DTSTART:20221030T010000
END:STANDARD
BEGIN:DAYLIGHT
TZOFFSETFROM:+0000
TZOFFSETTO:+0100
TZNAME:BST
DTSTART:20230326T010000
END:DAYLIGHT
BEGIN:STANDARD
TZOFFSETFROM:+0100
TZOFFSETTO:+0000
TZNAME:GMT
DTSTART:20231029T010000
END:STANDARD
END:VTIMEZONE
BEGIN:VEVENT
DTSTART;VALUE=DATE:20221209
DTEND;VALUE=DATE:20221210
DTSTAMP:20260425T175442
CREATED:20220706T135516Z
LAST-MODIFIED:20220706T135516Z
UID:1501-1670544000-1670630399@louisebensondance.co.uk
SUMMARY:End of Autumn term
DESCRIPTION:
URL:https://louisebensondance.co.uk/event/end-of-autumn-term/
END:VEVENT
BEGIN:VEVENT
DTSTART;VALUE=DATE:20221202
DTEND;VALUE=DATE:20221203
DTSTAMP:20260425T175442
CREATED:20220706T135443Z
LAST-MODIFIED:20220706T135443Z
UID:1499-1669939200-1670025599@louisebensondance.co.uk
SUMMARY:Prize giving 2022
DESCRIPTION:
URL:https://louisebensondance.co.uk/event/prize-giving-2022/
END:VEVENT
BEGIN:VEVENT
DTSTART;VALUE=DATE:20221128
DTEND;VALUE=DATE:20221129
DTSTAMP:20260425T175442
CREATED:20220706T135407Z
LAST-MODIFIED:20220706T135407Z
UID:1497-1669593600-1669679999@louisebensondance.co.uk
SUMMARY:Prize Giving tech
DESCRIPTION:
URL:https://louisebensondance.co.uk/event/prize-giving-tech/
END:VEVENT
BEGIN:VEVENT
DTSTART;TZID=Europe/London:20221127T153000
DTEND;TZID=Europe/London:20221127T183000
DTSTAMP:20260425T175442
CREATED:20221021T203920Z
LAST-MODIFIED:20221021T203920Z
UID:1588-1669563000-1669573800@louisebensondance.co.uk
SUMMARY:Peize-Giving run through
DESCRIPTION:
URL:https://louisebensondance.co.uk/event/peize-giving-run-through/
LOCATION:Wickham Hall\, Sussex Road\, West Wickham\, BR4 0JX
END:VEVENT
BEGIN:VEVENT
DTSTART;VALUE=DATE:20221017
DTEND;VALUE=DATE:20221029
DTSTAMP:20260425T175442
CREATED:20220706T135314Z
LAST-MODIFIED:20220706T135314Z
UID:1495-1665964800-1667001599@louisebensondance.co.uk
SUMMARY:Autumn Half Term
DESCRIPTION:
URL:https://louisebensondance.co.uk/event/autumn-half-term/
END:VEVENT
BEGIN:VEVENT
DTSTART;VALUE=DATE:20220905
DTEND;VALUE=DATE:20220906
DTSTAMP:20260425T175442
CREATED:20220706T135209Z
LAST-MODIFIED:20220706T135209Z
UID:1493-1662336000-1662422399@louisebensondance.co.uk
SUMMARY:Autumn term starts
DESCRIPTION:
URL:https://louisebensondance.co.uk/event/autumn-term-starts-8/
END:VEVENT
BEGIN:VEVENT
DTSTART;VALUE=DATE:20220711
DTEND;VALUE=DATE:20220716
DTSTAMP:20260425T175442
CREATED:20211027T210221Z
LAST-MODIFIED:20211027T210221Z
UID:1430-1657497600-1657929599@louisebensondance.co.uk
SUMMARY:End of summer term week
DESCRIPTION:
URL:https://louisebensondance.co.uk/event/end-of-summer-term-week/
END:VEVENT
BEGIN:VEVENT
DTSTART;TZID=Europe/London:20220530T080000
DTEND;TZID=Europe/London:20220701T170000
DTSTAMP:20260425T175442
CREATED:20211027T210846Z
LAST-MODIFIED:20211027T210846Z
UID:1432-1653897600-1656694800@louisebensondance.co.uk
SUMMARY:Half Term
DESCRIPTION:
URL:https://louisebensondance.co.uk/event/half-term-5/
END:VEVENT
BEGIN:VEVENT
DTSTART;VALUE=DATE:20220515
DTEND;VALUE=DATE:20220516
DTSTAMP:20260425T175442
CREATED:20210628T123304Z
LAST-MODIFIED:20210628T123304Z
UID:1371-1652572800-1652659199@louisebensondance.co.uk
SUMMARY:Summer Show!
DESCRIPTION:
URL:https://louisebensondance.co.uk/event/summer-show-3/
LOCATION:Langley Park School for Boys\, South Eden Park Road\, Beckenham\, Kent\, BR3 3BA\, United Kingdom
END:VEVENT
BEGIN:VEVENT
DTSTART;TZID=Europe/London:20220514T130000
DTEND;TZID=Europe/London:20220514T170000
DTSTAMP:20260425T175442
CREATED:20220318T164708Z
LAST-MODIFIED:20220318T164804Z
UID:1458-1652533200-1652547600@louisebensondance.co.uk
SUMMARY:Photoshoot Day!
DESCRIPTION:For all show kids\, come and have your show photo taken and collect your costume!
URL:https://louisebensondance.co.uk/event/photoshoot-day/
LOCATION:West Wickham New Church\, 142 High Street\, West Wickham\, BR4 0LZ\, United Kingdom
END:VEVENT
BEGIN:VEVENT
DTSTART;VALUE=DATE:20220506
DTEND;VALUE=DATE:20220507
DTSTAMP:20260425T175442
CREATED:20220318T165922Z
LAST-MODIFIED:20220318T165922Z
UID:1467-1651795200-1651881599@louisebensondance.co.uk
SUMMARY:Make up classes for the Bank holiday
DESCRIPTION:Classes from Monday 2nd May will be running at usual times at New Church
URL:https://louisebensondance.co.uk/event/make-up-classes-for-the-bank-holiday/
LOCATION:West Wickham New Church\, 142 High Street\, West Wickham\, BR4 0LZ\, United Kingdom
END:VEVENT
BEGIN:VEVENT
DTSTART;VALUE=DATE:20220502
DTEND;VALUE=DATE:20220503
DTSTAMP:20260425T175442
CREATED:20211027T205808Z
LAST-MODIFIED:20220318T165815Z
UID:1428-1651449600-1651535999@louisebensondance.co.uk
SUMMARY:Bank holiday
DESCRIPTION:Classes on this day are rescheduled to Friday 6th May at the New Church
URL:https://louisebensondance.co.uk/event/bank-holiday/
END:VEVENT
BEGIN:VEVENT
DTSTART;VALUE=DATE:20220419
DTEND;VALUE=DATE:20220420
DTSTAMP:20260425T175442
CREATED:20211027T205026Z
LAST-MODIFIED:20211027T205026Z
UID:1426-1650326400-1650412799@louisebensondance.co.uk
SUMMARY:Summer term starts
DESCRIPTION:
URL:https://louisebensondance.co.uk/event/summer-term-starts-4/
END:VEVENT
BEGIN:VEVENT
DTSTART;TZID=Europe/London:20220413T100000
DTEND;TZID=Europe/London:20220413T140000
DTSTAMP:20260425T175442
CREATED:20220318T165500Z
LAST-MODIFIED:20220318T165524Z
UID:1463-1649844000-1649858400@louisebensondance.co.uk
SUMMARY:Dance and Acro Workshop
DESCRIPTION:
URL:https://louisebensondance.co.uk/event/dance-and-acro-workshop/
LOCATION:West Wickham New Church\, 142 High Street\, West Wickham\, BR4 0LZ\, United Kingdom
ATTACH;FMTTYPE=image/png:https://louisebensondance.co.uk/wp-content/uploads/2022/03/acro-easter-workshopFlyer.png
END:VEVENT
BEGIN:VEVENT
DTSTART;TZID=Europe/London:20220407T100000
DTEND;TZID=Europe/London:20220407T120000
DTSTAMP:20260425T175442
CREATED:20220318T165150Z
LAST-MODIFIED:20220318T165213Z
UID:1460-1649325600-1649332800@louisebensondance.co.uk
SUMMARY:Encanto Mini Dance Workshop
DESCRIPTION:Click here to book: https://louisebensondance.co.uk/holiday-clubs/ \n 
URL:https://louisebensondance.co.uk/event/encanto-mini-dance-workshop/
LOCATION:Medhurst Hall\, Sussex Road\, BR4 0JX\, United Kingdom
ATTACH;FMTTYPE=image/png:https://louisebensondance.co.uk/wp-content/uploads/2022/03/Easter-workshop-encanto-Flyer.png
END:VEVENT
BEGIN:VEVENT
DTSTART;VALUE=DATE:20220328
DTEND;VALUE=DATE:20220402
DTSTAMP:20260425T175442
CREATED:20211027T204809Z
LAST-MODIFIED:20211027T204809Z
UID:1424-1648425600-1648857599@louisebensondance.co.uk
SUMMARY:End of Spring Term
DESCRIPTION:
URL:https://louisebensondance.co.uk/event/end-of-spring-term/
END:VEVENT
BEGIN:VEVENT
DTSTART;VALUE=DATE:20220214
DTEND;VALUE=DATE:20220219
DTSTAMP:20260425T175442
CREATED:20211027T204421Z
LAST-MODIFIED:20211027T204421Z
UID:1422-1644796800-1645228799@louisebensondance.co.uk
SUMMARY:Half term
DESCRIPTION:
URL:https://louisebensondance.co.uk/event/half-term-4/
END:VEVENT
BEGIN:VEVENT
DTSTART;VALUE=DATE:20220110
DTEND;VALUE=DATE:20220111
DTSTAMP:20260425T175442
CREATED:20211027T204239Z
LAST-MODIFIED:20211027T204239Z
UID:1420-1641772800-1641859199@louisebensondance.co.uk
SUMMARY:Spring Term Starts
DESCRIPTION:We welcome you back to our spring term 2022!
URL:https://louisebensondance.co.uk/event/spring-term-starts-4/
END:VEVENT
BEGIN:VEVENT
DTSTART;TZID=Europe/London:20211213T163000
DTEND;TZID=Europe/London:20211213T183000
DTSTAMP:20260425T175442
CREATED:20211027T204105Z
LAST-MODIFIED:20211027T204122Z
UID:1417-1639413000-1639420200@louisebensondance.co.uk
SUMMARY:Christmas Party!
DESCRIPTION:Save the date!! \nChristmas parties are back!\nMinis and Juniors (including year 6s) are invited to our Christmas party held at Wickham Halls on Monday 13th December from 4.30pm-6.30pm \nSeniors: from year 7 and above\nWe would like to invite you to our senior party at Pizza Express on West Wickham High Street also on Monday 13th December at 7.30pm-9.30pm \nFurther details to follow… \nxxxxx
URL:https://louisebensondance.co.uk/event/christmas-party-4/
LOCATION:Wickham Hall\, Sussex Road\, West Wickham\, BR4 0JX
END:VEVENT
BEGIN:VEVENT
DTSTART;VALUE=DATE:20211206
DTEND;VALUE=DATE:20211211
DTSTAMP:20260425T175442
CREATED:20210902T191755Z
LAST-MODIFIED:20211027T203820Z
UID:1402-1638748800-1639180799@louisebensondance.co.uk
SUMMARY:End of the Autumn term
DESCRIPTION:Come to the final classes of the year dressed as christmassy as you can!!!!
URL:https://louisebensondance.co.uk/event/end-of-the-autumn-term/
END:VEVENT
BEGIN:VEVENT
DTSTART;TZID=Europe/London:20211203T180000
DTEND;TZID=Europe/London:20211203T193000
DTSTAMP:20260425T175442
CREATED:20210628T123221Z
LAST-MODIFIED:20211027T203936Z
UID:1369-1638554400-1638559800@louisebensondance.co.uk
SUMMARY:Prize Giving 2021
DESCRIPTION:Buy your tickets here https://www.ticketsource.co.uk/louise-benson-school-of-dance/t-epxjen \nChildren will be needed at the Theatre from 5pm
URL:https://louisebensondance.co.uk/event/prize-giving-2021/
LOCATION:Langley Park School for Boys\, South Eden Park Road\, Beckenham\, Kent\, BR3 3BA\, United Kingdom
END:VEVENT
BEGIN:VEVENT
DTSTART;TZID=Europe/London:20211129T160000
DTEND;TZID=Europe/London:20211129T200000
DTSTAMP:20260425T175442
CREATED:20210628T123141Z
LAST-MODIFIED:20211027T203704Z
UID:1367-1638201600-1638216000@louisebensondance.co.uk
SUMMARY:Prize Giving Rehearsal
DESCRIPTION:Parents do not stay for this rehearsal\nPlease come in dance uniform ready to go!
URL:https://louisebensondance.co.uk/event/prize-giving-rehearsal-6/
LOCATION:Langley Park School for Boys\, South Eden Park Road\, Beckenham\, Kent\, BR3 3BA\, United Kingdom
END:VEVENT
BEGIN:VEVENT
DTSTART;TZID=Europe/London:20211121T120000
DTEND;TZID=Europe/London:20211121T140000
DTSTAMP:20260425T175442
CREATED:20210628T123045Z
LAST-MODIFIED:20210902T191610Z
UID:1365-1637496000-1637503200@louisebensondance.co.uk
SUMMARY:Tapathon
DESCRIPTION:
URL:https://louisebensondance.co.uk/event/tapathon-4/
END:VEVENT
BEGIN:VEVENT
DTSTART;VALUE=DATE:20211101
DTEND;VALUE=DATE:20211106
DTSTAMP:20260425T175442
CREATED:20211027T203329Z
LAST-MODIFIED:20211027T203329Z
UID:1412-1635724800-1636156799@louisebensondance.co.uk
SUMMARY:Halloween week!
DESCRIPTION:When we return on November 1st we are hosting ‘Halloween week’ a perfect chance to get another wear out of your costumes!  We encourage all of our pupils big and small to attend their classes in Halloween inspired outfits\, make up and hair\, just as long as they can dance safely!\nBe as creative as you can and in return we will have treats for you all and the winner of best dressed will receive an extra special prize!!!
URL:https://louisebensondance.co.uk/event/halloween-week/
END:VEVENT
BEGIN:VEVENT
DTSTART;VALUE=DATE:20211025
DTEND;VALUE=DATE:20211030
DTSTAMP:20260425T175442
CREATED:20210628T123004Z
LAST-MODIFIED:20210628T123004Z
UID:1362-1635120000-1635551999@louisebensondance.co.uk
SUMMARY:Half Term
DESCRIPTION:
URL:https://louisebensondance.co.uk/event/half-term-3/
END:VEVENT
BEGIN:VEVENT
DTSTART;VALUE=DATE:20210906
DTEND;VALUE=DATE:20210907
DTSTAMP:20260425T175442
CREATED:20210628T122927Z
LAST-MODIFIED:20210628T122927Z
UID:1360-1630886400-1630972799@louisebensondance.co.uk
SUMMARY:Autumn Term Starts
DESCRIPTION:
URL:https://louisebensondance.co.uk/event/autumn-term-starts-7/
END:VEVENT
BEGIN:VEVENT
DTSTART;TZID=Europe/London:20210826T090000
DTEND;TZID=Europe/London:20210826T130000
DTSTAMP:20260425T175442
CREATED:20210628T122752Z
LAST-MODIFIED:20210628T122752Z
UID:1356-1629968400-1629982800@louisebensondance.co.uk
SUMMARY:High School Musical ages 5-11yrs
DESCRIPTION:Book here : https://louisebensondance.co.uk/holiday-clubs/
URL:https://louisebensondance.co.uk/event/high-school-musical-ages-5-11yrs/
LOCATION:West Wickham New Church\, 142 High Street\, West Wickham\, BR4 0LZ\, United Kingdom
END:VEVENT
BEGIN:VEVENT
DTSTART;TZID=Europe/London:20210825T133000
DTEND;TZID=Europe/London:20210825T173000
DTSTAMP:20260425T175442
CREATED:20210628T122705Z
LAST-MODIFIED:20210628T122705Z
UID:1353-1629898200-1629912600@louisebensondance.co.uk
SUMMARY:Disney Remixed Street Jazz Workshop 5-11yrs
DESCRIPTION:Book here : https://louisebensondance.co.uk/holiday-clubs/
URL:https://louisebensondance.co.uk/event/disney-remixed-street-jazz-workshop-5-11yrs/
LOCATION:West Wickham New Church\, 142 High Street\, West Wickham\, BR4 0LZ\, United Kingdom
END:VEVENT
BEGIN:VEVENT
DTSTART;TZID=Europe/London:20210825T100000
DTEND;TZID=Europe/London:20210825T120000
DTSTAMP:20260425T175442
CREATED:20210628T122605Z
LAST-MODIFIED:20210628T122605Z
UID:1351-1629885600-1629892800@louisebensondance.co.uk
SUMMARY:Tangled Little Lovelies Workshop
DESCRIPTION:Book here : https://louisebensondance.co.uk/holiday-clubs/
URL:https://louisebensondance.co.uk/event/tangled-little-lovelies-workshop/
LOCATION:West Wickham New Church\, 142 High Street\, West Wickham\, BR4 0LZ\, United Kingdom
END:VEVENT
BEGIN:VEVENT
DTSTART;TZID=Europe/London:20210824T090000
DTEND;TZID=Europe/London:20210824T130000
DTSTAMP:20260425T175442
CREATED:20210628T122521Z
LAST-MODIFIED:20210628T122521Z
UID:1348-1629795600-1629810000@louisebensondance.co.uk
SUMMARY:Acro Workshop Wizard of Oz
DESCRIPTION:Book here : https://louisebensondance.co.uk/holiday-clubs/
URL:https://louisebensondance.co.uk/event/acro-workshop-wizard-of-oz/
LOCATION:West Wickham New Church\, 142 High Street\, West Wickham\, BR4 0LZ\, United Kingdom
END:VEVENT
END:VCALENDAR