BEGIN:VCALENDAR
VERSION:2.0
PRODID:-//Louise Benson School of Dance - ECPv6.15.16.1//NONSGML v1.0//EN
CALSCALE:GREGORIAN
METHOD:PUBLISH
X-WR-CALNAME:Louise Benson School of Dance
X-ORIGINAL-URL:https://louisebensondance.co.uk
X-WR-CALDESC:Events for Louise Benson School of Dance
REFRESH-INTERVAL;VALUE=DURATION:PT1H
X-Robots-Tag:noindex
X-PUBLISHED-TTL:PT1H
BEGIN:VTIMEZONE
TZID:Europe/London
BEGIN:DAYLIGHT
TZOFFSETFROM:+0000
TZOFFSETTO:+0100
TZNAME:BST
DTSTART:20190331T010000
END:DAYLIGHT
BEGIN:STANDARD
TZOFFSETFROM:+0100
TZOFFSETTO:+0000
TZNAME:GMT
DTSTART:20191027T010000
END:STANDARD
BEGIN:DAYLIGHT
TZOFFSETFROM:+0000
TZOFFSETTO:+0100
TZNAME:BST
DTSTART:20200329T010000
END:DAYLIGHT
BEGIN:STANDARD
TZOFFSETFROM:+0100
TZOFFSETTO:+0000
TZNAME:GMT
DTSTART:20201025T010000
END:STANDARD
BEGIN:DAYLIGHT
TZOFFSETFROM:+0000
TZOFFSETTO:+0100
TZNAME:BST
DTSTART:20210328T010000
END:DAYLIGHT
BEGIN:STANDARD
TZOFFSETFROM:+0100
TZOFFSETTO:+0000
TZNAME:GMT
DTSTART:20211031T010000
END:STANDARD
BEGIN:DAYLIGHT
TZOFFSETFROM:+0000
TZOFFSETTO:+0100
TZNAME:BST
DTSTART:20220327T010000
END:DAYLIGHT
BEGIN:STANDARD
TZOFFSETFROM:+0100
TZOFFSETTO:+0000
TZNAME:GMT
DTSTART:20221030T010000
END:STANDARD
END:VTIMEZONE
BEGIN:VEVENT
DTSTART;TZID=Europe/London:20211203T180000
DTEND;TZID=Europe/London:20211203T193000
DTSTAMP:20260425T141024
CREATED:20210628T123221Z
LAST-MODIFIED:20211027T203936Z
UID:1369-1638554400-1638559800@louisebensondance.co.uk
SUMMARY:Prize Giving 2021
DESCRIPTION:Buy your tickets here https://www.ticketsource.co.uk/louise-benson-school-of-dance/t-epxjen \nChildren will be needed at the Theatre from 5pm
URL:https://louisebensondance.co.uk/event/prize-giving-2021/
LOCATION:Langley Park School for Boys\, South Eden Park Road\, Beckenham\, Kent\, BR3 3BA\, United Kingdom
END:VEVENT
BEGIN:VEVENT
DTSTART;TZID=Europe/London:20211129T160000
DTEND;TZID=Europe/London:20211129T200000
DTSTAMP:20260425T141024
CREATED:20210628T123141Z
LAST-MODIFIED:20211027T203704Z
UID:1367-1638201600-1638216000@louisebensondance.co.uk
SUMMARY:Prize Giving Rehearsal
DESCRIPTION:Parents do not stay for this rehearsal\nPlease come in dance uniform ready to go!
URL:https://louisebensondance.co.uk/event/prize-giving-rehearsal-6/
LOCATION:Langley Park School for Boys\, South Eden Park Road\, Beckenham\, Kent\, BR3 3BA\, United Kingdom
END:VEVENT
BEGIN:VEVENT
DTSTART;TZID=Europe/London:20211121T120000
DTEND;TZID=Europe/London:20211121T140000
DTSTAMP:20260425T141024
CREATED:20210628T123045Z
LAST-MODIFIED:20210902T191610Z
UID:1365-1637496000-1637503200@louisebensondance.co.uk
SUMMARY:Tapathon
DESCRIPTION:
URL:https://louisebensondance.co.uk/event/tapathon-4/
END:VEVENT
BEGIN:VEVENT
DTSTART;VALUE=DATE:20211101
DTEND;VALUE=DATE:20211106
DTSTAMP:20260425T141024
CREATED:20211027T203329Z
LAST-MODIFIED:20211027T203329Z
UID:1412-1635724800-1636156799@louisebensondance.co.uk
SUMMARY:Halloween week!
DESCRIPTION:When we return on November 1st we are hosting ‘Halloween week’ a perfect chance to get another wear out of your costumes!  We encourage all of our pupils big and small to attend their classes in Halloween inspired outfits\, make up and hair\, just as long as they can dance safely!\nBe as creative as you can and in return we will have treats for you all and the winner of best dressed will receive an extra special prize!!!
URL:https://louisebensondance.co.uk/event/halloween-week/
END:VEVENT
BEGIN:VEVENT
DTSTART;VALUE=DATE:20211025
DTEND;VALUE=DATE:20211030
DTSTAMP:20260425T141024
CREATED:20210628T123004Z
LAST-MODIFIED:20210628T123004Z
UID:1362-1635120000-1635551999@louisebensondance.co.uk
SUMMARY:Half Term
DESCRIPTION:
URL:https://louisebensondance.co.uk/event/half-term-3/
END:VEVENT
BEGIN:VEVENT
DTSTART;VALUE=DATE:20210906
DTEND;VALUE=DATE:20210907
DTSTAMP:20260425T141024
CREATED:20210628T122927Z
LAST-MODIFIED:20210628T122927Z
UID:1360-1630886400-1630972799@louisebensondance.co.uk
SUMMARY:Autumn Term Starts
DESCRIPTION:
URL:https://louisebensondance.co.uk/event/autumn-term-starts-7/
END:VEVENT
BEGIN:VEVENT
DTSTART;TZID=Europe/London:20210826T090000
DTEND;TZID=Europe/London:20210826T130000
DTSTAMP:20260425T141024
CREATED:20210628T122752Z
LAST-MODIFIED:20210628T122752Z
UID:1356-1629968400-1629982800@louisebensondance.co.uk
SUMMARY:High School Musical ages 5-11yrs
DESCRIPTION:Book here : https://louisebensondance.co.uk/holiday-clubs/
URL:https://louisebensondance.co.uk/event/high-school-musical-ages-5-11yrs/
LOCATION:West Wickham New Church\, 142 High Street\, West Wickham\, BR4 0LZ\, United Kingdom
END:VEVENT
BEGIN:VEVENT
DTSTART;TZID=Europe/London:20210825T133000
DTEND;TZID=Europe/London:20210825T173000
DTSTAMP:20260425T141024
CREATED:20210628T122705Z
LAST-MODIFIED:20210628T122705Z
UID:1353-1629898200-1629912600@louisebensondance.co.uk
SUMMARY:Disney Remixed Street Jazz Workshop 5-11yrs
DESCRIPTION:Book here : https://louisebensondance.co.uk/holiday-clubs/
URL:https://louisebensondance.co.uk/event/disney-remixed-street-jazz-workshop-5-11yrs/
LOCATION:West Wickham New Church\, 142 High Street\, West Wickham\, BR4 0LZ\, United Kingdom
END:VEVENT
BEGIN:VEVENT
DTSTART;TZID=Europe/London:20210825T100000
DTEND;TZID=Europe/London:20210825T120000
DTSTAMP:20260425T141024
CREATED:20210628T122605Z
LAST-MODIFIED:20210628T122605Z
UID:1351-1629885600-1629892800@louisebensondance.co.uk
SUMMARY:Tangled Little Lovelies Workshop
DESCRIPTION:Book here : https://louisebensondance.co.uk/holiday-clubs/
URL:https://louisebensondance.co.uk/event/tangled-little-lovelies-workshop/
LOCATION:West Wickham New Church\, 142 High Street\, West Wickham\, BR4 0LZ\, United Kingdom
END:VEVENT
BEGIN:VEVENT
DTSTART;TZID=Europe/London:20210824T090000
DTEND;TZID=Europe/London:20210824T130000
DTSTAMP:20260425T141024
CREATED:20210628T122521Z
LAST-MODIFIED:20210628T122521Z
UID:1348-1629795600-1629810000@louisebensondance.co.uk
SUMMARY:Acro Workshop Wizard of Oz
DESCRIPTION:Book here : https://louisebensondance.co.uk/holiday-clubs/
URL:https://louisebensondance.co.uk/event/acro-workshop-wizard-of-oz/
LOCATION:West Wickham New Church\, 142 High Street\, West Wickham\, BR4 0LZ\, United Kingdom
END:VEVENT
BEGIN:VEVENT
DTSTART;TZID=Europe/London:20210812T133000
DTEND;TZID=Europe/London:20210812T173000
DTSTAMP:20260425T141024
CREATED:20210628T122422Z
LAST-MODIFIED:20210628T122422Z
UID:1345-1628775000-1628789400@louisebensondance.co.uk
SUMMARY:Musical Production Annie ages 5-11yrs
DESCRIPTION:Book here : https://louisebensondance.co.uk/holiday-clubs/
URL:https://louisebensondance.co.uk/event/musical-production-annie-ages-5-11yrs/
LOCATION:West Wickham New Church\, 142 High Street\, West Wickham\, BR4 0LZ\, United Kingdom
END:VEVENT
BEGIN:VEVENT
DTSTART;TZID=Europe/London:20210811T133000
DTEND;TZID=Europe/London:20210811T173000
DTSTAMP:20260425T141024
CREATED:20210628T122334Z
LAST-MODIFIED:20210628T122334Z
UID:1342-1628688600-1628703000@louisebensondance.co.uk
SUMMARY:Street Jazz Ariana Grande ages 5-11yrs
DESCRIPTION:Book here : https://louisebensondance.co.uk/holiday-clubs/
URL:https://louisebensondance.co.uk/event/street-jazz-ariana-grande-ages-5-11yrs/
LOCATION:West Wickham New Church\, 142 High Street\, West Wickham\, BR4 0LZ\, United Kingdom
END:VEVENT
BEGIN:VEVENT
DTSTART;TZID=Europe/London:20210810T133000
DTEND;TZID=Europe/London:20210810T173000
DTSTAMP:20260425T141024
CREATED:20210628T122243Z
LAST-MODIFIED:20210628T122243Z
UID:1340-1628602200-1628616600@louisebensondance.co.uk
SUMMARY:Acro Workshop Hairspray
DESCRIPTION:Book here : https://louisebensondance.co.uk/holiday-clubs/
URL:https://louisebensondance.co.uk/event/acro-workshop-hairspray/
LOCATION:West Wickham New Church\, 142 High Street\, West Wickham\, BR4 0LZ\, United Kingdom
END:VEVENT
BEGIN:VEVENT
DTSTART;TZID=Europe/London:20210810T100000
DTEND;TZID=Europe/London:20210810T120000
DTSTAMP:20260425T141024
CREATED:20210628T122146Z
LAST-MODIFIED:20210628T122146Z
UID:1338-1628589600-1628596800@louisebensondance.co.uk
SUMMARY:Beauty and the Beast Workshop for Little Lovelies
DESCRIPTION:Book here : https://louisebensondance.co.uk/holiday-clubs/
URL:https://louisebensondance.co.uk/event/beauty-and-the-beast-workshop-for-little-lovelies/
LOCATION:Wickham Hall\, Sussex Road\, West Wickham\, BR4 0JX
END:VEVENT
BEGIN:VEVENT
DTSTART;TZID=Europe/London:20210728T090000
DTEND;TZID=Europe/London:20210728T130000
DTSTAMP:20260425T141024
CREATED:20210728T121759Z
LAST-MODIFIED:20210628T121907Z
UID:1334-1627462800-1627477200@louisebensondance.co.uk
SUMMARY:Little Mix Street Jazz Workshop ages 5-11yrs
DESCRIPTION:Book here : https://louisebensondance.co.uk/holiday-clubs/
URL:https://louisebensondance.co.uk/event/little-mix-street-jazz-workshop-ages-5-11yrs/
LOCATION:West Wickham New Church\, 142 High Street\, West Wickham\, BR4 0LZ\, United Kingdom
END:VEVENT
BEGIN:VEVENT
DTSTART;TZID=Europe/London:20210727T133000
DTEND;TZID=Europe/London:20210727T173000
DTSTAMP:20260425T141024
CREATED:20210628T121633Z
LAST-MODIFIED:20210628T121941Z
UID:1331-1627392600-1627407000@louisebensondance.co.uk
SUMMARY:Acro Fame Workshop ages 5-11yrs
DESCRIPTION:New Church\nBook here: https://louisebensondance.co.uk/holiday-clubs/
URL:https://louisebensondance.co.uk/event/acro-fame-workshop-ages-5-11yrs/
LOCATION:West Wickham New Church\, 142 High Street\, West Wickham\, BR4 0LZ\, United Kingdom
END:VEVENT
BEGIN:VEVENT
DTSTART;TZID=Europe/London:20210727T100000
DTEND;TZID=Europe/London:20210727T120000
DTSTAMP:20260425T141024
CREATED:20210628T121513Z
LAST-MODIFIED:20210628T121513Z
UID:1329-1627380000-1627387200@louisebensondance.co.uk
SUMMARY:Summer Workshops Frozen for Little Lovelies
DESCRIPTION:10am-12pm Sussex Rooms\nBook here: \nHoliday Clubs
URL:https://louisebensondance.co.uk/event/summer-workshops-frozen-for-little-lovelies/
LOCATION:Wickham Hall\, Sussex Road\, West Wickham\, BR4 0JX
END:VEVENT
BEGIN:VEVENT
DTSTART;VALUE=DATE:20210712
DTEND;VALUE=DATE:20210717
DTSTAMP:20260425T141024
CREATED:20210315T141237Z
LAST-MODIFIED:20210315T141237Z
UID:1238-1626048000-1626479999@louisebensondance.co.uk
SUMMARY:Last Week of Summer Term
DESCRIPTION:
URL:https://louisebensondance.co.uk/event/last-week-of-summer-term/
END:VEVENT
BEGIN:VEVENT
DTSTART;TZID=Europe/London:20210711T133000
DTEND;TZID=Europe/London:20210711T190000
DTSTAMP:20260425T141024
CREATED:20210628T122832Z
LAST-MODIFIED:20210628T122832Z
UID:1358-1626010200-1626030000@louisebensondance.co.uk
SUMMARY:Assessments
DESCRIPTION:
URL:https://louisebensondance.co.uk/event/assessments/
LOCATION:West Wickham New Church\, 142 High Street\, West Wickham\, BR4 0LZ\, United Kingdom
END:VEVENT
BEGIN:VEVENT
DTSTART;TZID=Europe/London:20210629T133000
DTEND;TZID=Europe/London:20210629T173000
DTSTAMP:20260425T141024
CREATED:20210628T122049Z
LAST-MODIFIED:20210628T122049Z
UID:1336-1624973400-1624987800@louisebensondance.co.uk
SUMMARY:Musical Production Workshop Matilda ages 5-11yrs
DESCRIPTION:Book here : https://louisebensondance.co.uk/holiday-clubs/
URL:https://louisebensondance.co.uk/event/musical-production-workshop-matilda-ages-5-11yrs/
LOCATION:West Wickham New Church\, 142 High Street\, West Wickham\, BR4 0LZ\, United Kingdom
END:VEVENT
BEGIN:VEVENT
DTSTART;VALUE=DATE:20210531
DTEND;VALUE=DATE:20210605
DTSTAMP:20260425T141024
CREATED:20210315T141147Z
LAST-MODIFIED:20210315T141147Z
UID:1236-1622419200-1622851199@louisebensondance.co.uk
SUMMARY:Half Term Week
DESCRIPTION:
URL:https://louisebensondance.co.uk/event/half-term-week-12/
END:VEVENT
BEGIN:VEVENT
DTSTART;VALUE=DATE:20210419
DTEND;VALUE=DATE:20210420
DTSTAMP:20260425T141024
CREATED:20210315T141102Z
LAST-MODIFIED:20210315T141102Z
UID:1234-1618790400-1618876799@louisebensondance.co.uk
SUMMARY:Summer term starts!
DESCRIPTION:
URL:https://louisebensondance.co.uk/event/summer-term-starts-3/
END:VEVENT
BEGIN:VEVENT
DTSTART;TZID=Europe/London:20201213T080000
DTEND;TZID=Europe/London:20201213T170000
DTSTAMP:20260425T141024
CREATED:20201028T223641Z
LAST-MODIFIED:20201028T223641Z
UID:1214-1607846400-1607878800@louisebensondance.co.uk
SUMMARY:Prize Giving Day
DESCRIPTION:
URL:https://louisebensondance.co.uk/event/prize-giving-day/
LOCATION:Langley Park School for Boys\, South Eden Park Road\, Beckenham\, Kent\, BR3 3BA\, United Kingdom
END:VEVENT
BEGIN:VEVENT
DTSTART;TZID=Europe/London:20201212T080000
DTEND;TZID=Europe/London:20201212T170000
DTSTAMP:20260425T141024
CREATED:20201028T223718Z
LAST-MODIFIED:20201028T223718Z
UID:1216-1607760000-1607792400@louisebensondance.co.uk
SUMMARY:Tap Exams
DESCRIPTION:
URL:https://louisebensondance.co.uk/event/tap-exams/
LOCATION:West Wickham New Church\, 142 High Street\, West Wickham\, BR4 0LZ\, United Kingdom
END:VEVENT
BEGIN:VEVENT
DTSTART;VALUE=DATE:20201207
DTEND;VALUE=DATE:20201214
DTSTAMP:20260425T141024
CREATED:20200830T074610Z
LAST-MODIFIED:20201028T222722Z
UID:1184-1607299200-1607903999@louisebensondance.co.uk
SUMMARY:Last week of term
DESCRIPTION:
URL:https://louisebensondance.co.uk/event/last-week-of-term-incase-prize-giving-does-not-go-ahead/
END:VEVENT
BEGIN:VEVENT
DTSTART;VALUE=DATE:20201026
DTEND;VALUE=DATE:20201102
DTSTAMP:20260425T141024
CREATED:20200830T074241Z
LAST-MODIFIED:20200830T074241Z
UID:1181-1603670400-1604275199@louisebensondance.co.uk
SUMMARY:Half Term Week
DESCRIPTION:
URL:https://louisebensondance.co.uk/event/half-term-week-11/
END:VEVENT
BEGIN:VEVENT
DTSTART;VALUE=DATE:20200907
DTEND;VALUE=DATE:20200908
DTSTAMP:20260425T141024
CREATED:20200830T074121Z
LAST-MODIFIED:20200830T074121Z
UID:1179-1599436800-1599523199@louisebensondance.co.uk
SUMMARY:Start of Autumn Term
DESCRIPTION:
URL:https://louisebensondance.co.uk/event/start-of-autumn-term/
END:VEVENT
BEGIN:VEVENT
DTSTART;VALUE=DATE:20200716
DTEND;VALUE=DATE:20200717
DTSTAMP:20260425T141024
CREATED:20191222T234158Z
LAST-MODIFIED:20191222T234158Z
UID:1071-1594857600-1594943999@louisebensondance.co.uk
SUMMARY:End of term
DESCRIPTION:
URL:https://louisebensondance.co.uk/event/end-of-term-2/
END:VEVENT
BEGIN:VEVENT
DTSTART;TZID=Europe/London:20200525T080000
DTEND;TZID=Europe/London:20200528T170000
DTSTAMP:20260425T141024
CREATED:20191222T234007Z
LAST-MODIFIED:20191222T234007Z
UID:1067-1590393600-1590685200@louisebensondance.co.uk
SUMMARY:Half term
DESCRIPTION:
URL:https://louisebensondance.co.uk/event/half-term-2/
END:VEVENT
BEGIN:VEVENT
DTSTART;VALUE=DATE:20200420
DTEND;VALUE=DATE:20200421
DTSTAMP:20260425T141024
CREATED:20191222T233927Z
LAST-MODIFIED:20191222T233927Z
UID:1065-1587340800-1587427199@louisebensondance.co.uk
SUMMARY:Summer term starts
DESCRIPTION:
URL:https://louisebensondance.co.uk/event/summer-term-starts-2/
END:VEVENT
END:VCALENDAR